BEGIN:VCALENDAR
VERSION:2.0
PRODID:-//wp-events-plugin.com//7.2.3.1//EN
TZID:America/Los_Angeles
X-WR-TIMEZONE:America/Los_Angeles
BEGIN:VEVENT
UID:5857@treglobal.org
DTSTART;TZID=Europe/Oslo:20230618T183000
DTEND;TZID=Europe/Oslo:20230618T203000
DTSTAMP:20230511T213233Z
URL:https://treglobal.org/event/tre-and-leadership-development-with-marie-
 simonsen-and-hans-holter-solhjell/
SUMMARY:Post-Traumatic Growth integrating TRE™ - A talk by Christine Gibs
 on
DESCRIPTION:Post-Traumatic Growth integrating TRE™\nA talk by Christine G
 ibson\,\nMD MMedEd DProf(c)\nSunday\, June 18th | 6:30 pm – 7:30 pm (Osl
 o/Paris).\n\nThis is a free talk and open to anyone.\n\nIn this interactiv
 e talk\, Dr. Gibson will be discussing how TRE fits into the 3 phases of J
 udith Herman’s trauma and recovery model. Specially focused on the final
  stage – post-traumatic growth\, she will provide a clear metaphor to co
 nceptualize this\, the evidence supporting it and describe the process usi
 ng illustrations from her new book The Modern Trauma Toolkit… and possib
 ly a TikTok or two!\nRegister for the free talk here.\n\nTRE™ and explic
 it memories\nA demonstration of how to combine a cognitive method for expl
 icit memories\n\nIn this two-hour session\, we will connect and share expe
 riences related to the topic of the talk and TRE™ in general\, and you c
 an ask questions related to the topic of the talk.\n\nIn this session\, Ha
 ns will present a method for working with the explicit part of stressful a
 nd traumatic memories. And how to combine this with TRE. There will first 
 be a short presentation of the method\, then a demonstration with a partic
 ipant\, and in the end\, a group tremor where participants are invited to 
 try the method.\n\n&nbsp\;\nSign up for Q&amp\;A and tremor session here.\
 n\nAbout Christine Gibson\nDr. Christine Gibson is a family physician\, tr
 auma therapist\, and author of The Modern Trauma Toolkit. She’s also on 
 social media as TikTokTraumaDoc with &gt\;130k followers on TikTok. She ha
 s a masters in medical education and is halfway through a doctorate\, and 
 has been involved in academics and education – creating Calgary’s fell
 owship in health equity. She runs an international non-profit Global Famil
 ymed Foundation\, a cooperative\, and a new company to train professionals
  how to manage workplace trauma – Safer Spaces Training. She has been do
 ing TRE for almost five years and is trained at the advanced level.
CATEGORIES:TRE® Continuing Education / Specialty Training
LOCATION:https://oppmerksombevegelse.no/post-traumatic-growth-integrating-t
 re/
END:VEVENT
BEGIN:VTIMEZONE
TZID:Europe/Oslo
X-LIC-LOCATION:Europe/Oslo
BEGIN:DAYLIGHT
DTSTART:20230326T030000
TZOFFSETFROM:+0100
TZOFFSETTO:+0200
TZNAME:CEST
END:DAYLIGHT
END:VTIMEZONE
END:VCALENDAR