BEGIN:VCALENDAR
VERSION:2.0
PRODID:-//wp-events-plugin.com//7.2.3.1//EN
TZID:America/Los_Angeles
X-WR-TIMEZONE:America/Los_Angeles
BEGIN:VEVENT
UID:5952@treglobal.org
DTSTART;TZID=Europe/Oslo:20240104T170000
DTEND;TZID=Europe/Oslo:20240104T201500
DTSTAMP:20231129T101115Z
URL:https://treglobal.org/event/tre-and-leadership-development-with-marie-
 simonsen-and-hans-holter-solhjell-3/
SUMMARY:TRE™ and Chronic Pain Relief with Raquel Devillé and Hans Holter
  Solhjell
DESCRIPTION:-Five case stories about TRE and pain\nA talk by Raquel Devill
 é\,\nTRE™ provider\, yoga teacher and therapist\nThursday Januaryth 202
 4 | 5 pm – 6 pm CET\n\nThis is a free talk and open to anyone.\n\nIn t
 his talk Raquel will present five real-life case stories of individuals wh
 o have successfully managed and overcome chronic pain using Tension &amp\;
  Trauma Release Exercises (TRE).\n\nWe will explore how TRE can be used as
  a tool in pain management and inspire you to explore and apply TRE in you
 r own life or practice.\n\nThis talk is for both TRE providers\, trainers\
 , and also for you who are new to TRE and those struggling with pain and w
 ill offer you an understanding of the potential of TRE in pain management.
 \nRegister for the free talk here.\n\nTRE™ for Pain Relief Tremor Sessio
 n\nTRE™ connect\, Q&amp\;A and tremor session led by Hans Holter Solhjel
 l and Raquel Devillé\n\nIn this two-hour session\, we will connect and sh
 are experiences related to the topic of the talk and TRE™ in general\, a
 nd you can ask questions related to the topic of the talk.\n\nWe will expl
 ore TRE used for pain relief\, practical techniques to incorporate TRE int
 o your wellness practice\, and how to guide your clients to manage their p
 ain and how to work with pain in TRE sessions.\n\nWe will do a tremor sess
 ion\, demonstrate interventions and modifications\, and provide individual
  guidance and support.\n\nThese sessions are for those with quite a bit of
  experience with TRE™ as a personal practice\, instructors\, and trainer
 s. They are not beginner sessions and provide additional ideas\, exercises
 \, and interventions compared to the basic set of TRE™ exercises.\n\nThe
  purpose of these sessions are also to connect with others who practice TR
 E™ to share experiences\, support and learn from each other.\nSign up fo
 r Q&amp\;A and tremor session here.\n\nAbout Raquel Devillé\nTRE™ provi
 der\, yoga teacher and therapist\n\nWith a solid foundation in HR manageme
 nt and a master’s in Occupational Health and Ergonomics\, I’ve have an
  affinity for understanding how the human body works and moves. My journey
  took a transformative turn when I discovered yoga and TRE. This was a gam
 e-changer\, as it allowed me to combine my academic knowledge with a more 
 holistic approach to health and wellness.\n\nAs the founder of Recentrez-v
 ous\, a yoga and therapy center in Virton\, Belgium\, I’ve had the privi
 lege of sharing my knowledge and passion with diverse groups of persons. B
 ut it’s my work as a TRE provider that has been the most rewarding. I’
 ve helped over 100 people find relief from back pain\, chronic pain\, and 
 sleep issues through TRE. Some of my clients have even been able to avoid 
 back and knee surgery\, thanks to the benefits of this practice.\n\nI’m 
 a proud Portuguese native from the ocean-side village of Ericeira\, but no
 w call Virton\, Belgium\, home. I’m a firm believer in living a balanced
 \, natural lifestyle – I walk everywhere with barefoot shoes\, eat only 
 non-processed foods and I go to sleep early.
ATTACH;FMTTYPE=image/jpeg:https://treglobal.org/wp-content/uploads/2023/11
 /TRE_talk_and_tremor_sessions_12_600x600_woo-Raquel-Deville.jpg
CATEGORIES:TRE® Continuing Education / Specialty Training
LOCATION:https://oppmerksombevegelse.no/tre-and-chronic-pain-with-raquel-de
 ville/
END:VEVENT
BEGIN:VTIMEZONE
TZID:Europe/Oslo
X-LIC-LOCATION:Europe/Oslo
BEGIN:STANDARD
DTSTART:20231029T020000
TZOFFSETFROM:+0200
TZOFFSETTO:+0100
TZNAME:CET
END:STANDARD
END:VTIMEZONE
END:VCALENDAR