BEGIN:VCALENDAR
VERSION:2.0
PRODID:-//wp-events-plugin.com//7.2.3.1//EN
TZID:America/Los_Angeles
X-WR-TIMEZONE:America/Los_Angeles
BEGIN:VEVENT
UID:5839@treglobal.org
DTSTART;TZID=America/Chicago:20230507T110000
DTEND;TZID=America/Chicago:20230507T130000
DTSTAMP:20230421T000154Z
URL:https://treglobal.org/event/tre-and-12-meridian-qigong-workshop/
SUMMARY:TRE and 12 Meridian QiGong Workshop
DESCRIPTION:This is an Introduction to TRE™ workshop paired with the 12 M
 eridian QiGong sequence.  No experience in either required.  The 12 Meri
 dian QiGong is a beautiful combination with TRE.  The practice helps conn
 ect us to our breath\, calming/grounding movements that warm up the body\,
  and a lovely connection to our resilience.  This practice can be done by
  anyone regardless of age or abilities\, the movements are gentle and easy
  to be adapted also to a chair. This workshop will take place at Yogaview 
 Chicago on May 7th 11am to 1pm.  You can preregister at their workshop pa
 ge.
ATTACH;FMTTYPE=image/jpeg:https://treglobal.org/wp-content/uploads/2023/04
 /TRE-photowebsize.jpg
CATEGORIES:Intro Workshops / Recurring Classes / Online Events
LOCATION:Yogaview Chicago\, 2211 N. Elston Ave Unit 200\, Chicago\, IL\, 60
 614\, United States
X-APPLE-STRUCTURED-LOCATION;VALUE=URI;X-ADDRESS=2211 N. Elston Ave Unit 200
 \, Chicago\, IL\, 60614\, United States;X-APPLE-RADIUS=100;X-TITLE=Yogavie
 w Chicago:geo:0,0
END:VEVENT
BEGIN:VTIMEZONE
TZID:America/Chicago
X-LIC-LOCATION:America/Chicago
BEGIN:DAYLIGHT
DTSTART:20230312T030000
TZOFFSETFROM:-0600
TZOFFSETTO:-0500
TZNAME:CDT
END:DAYLIGHT
END:VTIMEZONE
END:VCALENDAR