BEGIN:VCALENDAR
VERSION:2.0
PRODID:-//wp-events-plugin.com//7.2.3.1//EN
TZID:America/Los_Angeles
X-WR-TIMEZONE:America/Los_Angeles
BEGIN:VEVENT
UID:5911@treglobal.org
DTSTART;TZID=Europe/London:20230930T100000
DTEND;TZID=Europe/London:20231001T180000
DTSTAMP:20230817T164304Z
URL:https://treglobal.org/event/tre-advanced-training-weekend-uk/
SUMMARY:TRE Advanced Training Weekend UK
DESCRIPTION:This weekend training package in Brighton\, UK\, is for two wor
 kshops and a saving of £25 when booking both together. Total cost £165 (
 normal price £190).\n\n1/ Following The Body &amp\; Touch Interventions i
 n TRE - Saturday 30th September 2023\n\n2/ Moving Within: Enhancing Intero
 ception in TRE - Sunday 1st October 2023\n\nThere is also a social (non ti
 cketed) on the evening of Saturday 30th where we can meet socially over a 
 meal and drinks. This is not included in the price.Please email Deborah at
  info@deborah-brown.co.uk if you would like to join in the evening.\n\n1/ 
 Following The Body &amp\; Touch Interventions in TRE\nSaturday 30th Septem
 ber 2023\n\nFull day training practical advanced training develops underst
 anding of how to observe the movements and restrictions in the body and ex
 plores when and how to support clients in connecting deeper with their bod
 y using touch. The day will explore the following through demonstration\, 
 practical sessions in pairs and discussion:\n\n- Negotiating relational sp
 ace and the use of presence\n- Negotiating touch\n- How to touch\n- Dosing
 \n- Key touch interventions\n- Considerations on when to use touch\n\nTake
 aways include enhanced relational attunement\, confidence in exploring all
 owing versus interpretation &amp\; intervention\, when to use touch in ses
 sions within a framework of regulation and relationship\, confidence in 
 ‘holding bodies’ when using touch and a deepening of personal process.
 \n\n2/ Moving Within: Enhancing Interoception Through Movement\nSunday 1st
  October 2023\n\nDevelop your grounding toolkit for you and your clients t
 hrough movement. Bringing in elements of rhythm\, music\, play and connect
 ion\, this half day workshop enhances interception through movement\, bala
 nce and exteroception.\n\nPractical exercises to shift our nervous system 
 and body awareness through consciously exploring areas such as:\n\n- Plane
 s of movement\n- Balance\n- Use of the senses (exteroception)\n- Non habit
 ual movement\n- Using edges and props\n- Play and ‘errors’\n\nIn addit
 ion to smiles and connection with other TRE Providers &amp\; Trainees\, ta
 keaway practical accessible exercises to incorporate into client work\, gr
 oups and for your own self care.
ATTACH;FMTTYPE=image/jpeg:https://treglobal.org/wp-content/uploads/2023/08
 /6-copy.jpg
CATEGORIES:TRE® Continuing Education / Specialty Training
LOCATION:Purple Turtle\, 1st Floor\, Old Slipper Baths\, Barrack Yard\, Nor
 th Rd\, Brighton\, East Sussex\, BN1 1YA\, United Kingdom
X-APPLE-STRUCTURED-LOCATION;VALUE=URI;X-ADDRESS=1st Floor\, Old Slipper Bat
 hs\, Barrack Yard\, North Rd\, Brighton\, East Sussex\, BN1 1YA\, United K
 ingdom;X-APPLE-RADIUS=100;X-TITLE=Purple Turtle:geo:0,0
END:VEVENT
BEGIN:VTIMEZONE
TZID:Europe/London
X-LIC-LOCATION:Europe/London
BEGIN:DAYLIGHT
DTSTART:20230326T020000
TZOFFSETFROM:+0000
TZOFFSETTO:+0100
TZNAME:BST
END:DAYLIGHT
END:VTIMEZONE
END:VCALENDAR