BEGIN:VCALENDAR
VERSION:2.0
PRODID:-//wp-events-plugin.com//7.2.3.1//EN
TZID:America/Los_Angeles
X-WR-TIMEZONE:America/Los_Angeles
BEGIN:VEVENT
UID:6003@treglobal.org
DTSTART;TZID=America/New_York:20240327T191500
DTEND;TZID=America/New_York:20240327T203000
DTSTAMP:20240323T164546Z
URL:https://treglobal.org/event/tre-advanced-shake-with-bonnie-pariser/
SUMMARY:TRE Advanced Shake with Bonnie Pariser
DESCRIPTION:Do you want to take your TRE practice to the next level and acc
 elerate your liberation from stress\, anxiety\, worry and pain?\nIn this 4
 -session seminar you will learn new options for positions and self-interve
 ntions to use in your home practice. We will be experimenting with the tre
 mor mechanism so as to open up new possibilities for your practice.\nThis 
 seminar is appropriate for people who have practiced TRE before.  Best to
  have at least one month of TRE experience prior to attending.\n\nPlease c
 ontact the studio if you would like to attend online.  Zoom registration 
 will be provided for those who would like to attend at home.\n\nWednesday'
 s 7:15-8:30pm\n\n3/27\, 4/3\, 4/10\n\n$67\n\nLink to register for the work
 shop
CATEGORIES:Intro Workshops / Recurring Classes / Online Events
LOCATION:https://yoga-loka.punchpass.com/series/33624
END:VEVENT
BEGIN:VTIMEZONE
TZID:America/New_York
X-LIC-LOCATION:America/New_York
BEGIN:DAYLIGHT
DTSTART:20240310T030000
TZOFFSETFROM:-0500
TZOFFSETTO:-0400
TZNAME:EDT
END:DAYLIGHT
END:VTIMEZONE
END:VCALENDAR