BEGIN:VCALENDAR
VERSION:2.0
PRODID:-//wp-events-plugin.com//7.2.3.1//EN
TZID:America/Los_Angeles
X-WR-TIMEZONE:America/Los_Angeles
BEGIN:VEVENT
UID:6109@treglobal.org
DTSTART;TZID=America/New_York:20241106T191500
DTEND;TZID=America/New_York:20241106T203000
DTSTAMP:20241014T151207Z
URL:https://treglobal.org/event/tre-advanced-group-shake/
SUMMARY:TRE Advanced Group Shake
DESCRIPTION:In this advanced 4-session seminar we will be focusing on how t
 o be creative with our TRE practice. We will incorporate props\, different
  positions\, and our continuously deepening understanding of the tremor me
 chanism to shift our practice.\n\nPlease contact the studio if you would l
 ike to attend online to receive the  Zoom link for the sessions.\n\nWedne
 sday's 7:15-8:30 pm EST\n11/6\, 11/20\, 12/4\,12/18\n$90. $85 with discoun
 t code TREADVNOV which is valid until 10/30\n\nYoga Loka\n23 Race Street
 \nFrenchtown NJ 08825\nhttps://www.yoga-loka.com/workshops.html
CATEGORIES:Intro Workshops / Recurring Classes / Online Events
LOCATION:https://www.yoga-loka.com/workshops.html
END:VEVENT
BEGIN:VTIMEZONE
TZID:America/New_York
X-LIC-LOCATION:America/New_York
BEGIN:STANDARD
DTSTART:20241103T010000
TZOFFSETFROM:-0400
TZOFFSETTO:-0500
TZNAME:EST
END:STANDARD
END:VTIMEZONE
END:VCALENDAR