BEGIN:VCALENDAR
VERSION:2.0
PRODID:-//wp-events-plugin.com//7.2.3.1//EN
TZID:America/Los_Angeles
X-WR-TIMEZONE:America/Los_Angeles
BEGIN:VEVENT
UID:6043@treglobal.org
DTSTART;TZID=America/New_York:20240522T191500
DTEND;TZID=America/New_York:20240522T203000
DTSTAMP:20240413T040849Z
URL:https://treglobal.org/event/tre-4-session-workshop/
SUMMARY:TRE 4 Session Workshop
DESCRIPTION:Trauma and Tension Releasing Exercises (TRE) are your key to de
 stressing and being able to relax your body and your mind. TRE will accele
 rate your liberation from stress\, anxiety\, worry and pain.\nIn this 4-se
 ssion seminar you will learn the basis of the tremor mechanism and how you
  can use this practice for self-regulation and respond to life appropriate
 ly.\n\nNew students and experienced ones are welcome to attend.\n\nPlease 
 contact the studio if you would like to attend online.  Zoom registration
  will be provided for those who would like to attend at home.\n\nWednesday
 's 7:15-8:30pm EST\n\n5/22\, 5/29\, 6/5\, 6/12\n\n$90. $85 with discount c
 ode TREWORKSHOP which is valid until 5/16
CATEGORIES:Intro Workshops / Recurring Classes / Online Events
LOCATION:https://www.yoga-loka.com/%20
END:VEVENT
BEGIN:VTIMEZONE
TZID:America/New_York
X-LIC-LOCATION:America/New_York
BEGIN:DAYLIGHT
DTSTART:20240310T030000
TZOFFSETFROM:-0500
TZOFFSETTO:-0400
TZNAME:EDT
END:DAYLIGHT
END:VTIMEZONE
END:VCALENDAR