BEGIN:VCALENDAR
VERSION:2.0
PRODID:-//wp-events-plugin.com//7.2.3.1//EN
TZID:America/Los_Angeles
X-WR-TIMEZONE:America/Los_Angeles
BEGIN:VEVENT
UID:6073@treglobal.org
DTSTART;TZID=Europe/London:20250109T093000
DTEND;TZID=Europe/London:20250111T173000
DTSTAMP:20240702T160912Z
URL:https://treglobal.org/event/tre-3-day-workshop-in-edinburgh-scotland-u
 k-4/
SUMMARY:TRE™ 3-day Workshop in Edinburgh (Scotland\, UK)
DESCRIPTION:Immerse yourself in the Revolutionary\, New Tension &amp\; Trau
 ma Release Exercises\n\nTestimonials – Edinburgh Workshop\n\n"F**g trans
 formational" FL\, Edinburgh\n\n“I found all instructors and assistant fr
 iendly\, approachable\, responsive and I felt safe and engaged (except whe
 n asleep – but was also engaged by being encouraged that my state was ok
 ay and welcomed awake or asleep) Excellent.” LM\, Findhorn\n\n“…It w
 as a very worthwhile course and I learned a lot. Thank you to you both for
  being engaging and ‘available’ teachers. Thanks” JD\, Edinburgh\n\n
 “This was a brilliant 3 days and I learned a lot (more) about myself” 
 VM\, Edinburgh\n\nTimes: 9.30 to 5.30pm (earlier finish on final day)\n\nV
 enue: St Columbas Church by the Castle\, Edinburgh EH1\n\nCost: £325 earl
 y bird month before\, then £345\; deposit of £70 secures place\n\nBook N
 OW: please email Vicki - vicki@trescotland.com. We will request the balanc
 e 3 weeks before the start date.\n\n3-Day Workshop is open to everyone. Wh
 ether you work with stressed or traumatized clients\, or if you personally
  want to free yourself from tension. TRE is a self-help tool developed by 
 Dr David Berceli that is used successfully throughout the world. The cours
 e will be very practical. Each day you will be supported through the exerc
 ises and tremors\, including time for discussions and sharing of experienc
 es. You will learn the theory of how trauma is held in the physical body a
 nd can be released by the body naturally with self-induced therapeutic tre
 mors.\n\nParticipants will be introduced to TRE and the personal tremoring
  response or go deeper into their practice.\nParticipants will understand 
 the tremor response.\nParticipants will learn anatomy\, neurology and phys
 iology of stress and trauma as it relates to TRE\nParticipants will learn 
 defense reactions\, containment\, and grounding strategies as they relate 
 to TRE.\nParticipants will receive an introduction to the Polyvagal theory
 \n\nFor information www.trescotland.com or email: vicki@trescotland.com.\n
 \nMore Testimonials\n\n‘really good\, informative\, fascinating\, good p
 reparation…… Really great combination of light humour and very detaile
 d knowledgeable responses to questions and clear explanation of TRE made t
 he whole learning experience enjoyable and easy to take in’\n\n‘Very g
 ood\, I loved the theory. Also the practice and the opportunity to facilit
 ate the process………. Great clarity\, alive\, great holding\, practica
 l approach brings safety – good team’\n\n‘Very well structured so as
  to not overwhelm with information but allow group discussion and TRE time
  to be balanced…… Very supportive and friendly’\n\n‘Mixed\, varied
 \, dynamic\, alive and kicking. A good combo of experiential and theory. C
 hallenging\, provocative and playful.’
ATTACH;FMTTYPE=image/jpeg:https://treglobal.org/wp-content/uploads/2021/04
 /David-Berceli-with-Vicki-Cook-TRE-Scotland-.jpg
CATEGORIES:Intro Workshops / Recurring Classes / Online Events
LOCATION:St Columba's Church by the Castle\, 14 Johnston Terrace\, Edinburg
 h\, Edinburgh\, EH1 2PW\, Scotland\, United Kingdom
GEO:55.9484752;-3.195579500000008
X-APPLE-STRUCTURED-LOCATION;VALUE=URI;X-ADDRESS=14 Johnston Terrace\, Edinb
 urgh\, Edinburgh\, EH1 2PW\, Scotland\, United Kingdom;X-APPLE-RADIUS=100;
 X-TITLE=St Columba's Church by the Castle:geo:55.9484752,-3.19557950000000
 8
END:VEVENT
BEGIN:VTIMEZONE
TZID:Europe/London
X-LIC-LOCATION:Europe/London
BEGIN:STANDARD
DTSTART:20241027T010000
TZOFFSETFROM:+0100
TZOFFSETTO:+0000
TZNAME:GMT
END:STANDARD
END:VTIMEZONE
END:VCALENDAR