BEGIN:VCALENDAR
VERSION:2.0
PRODID:-//wp-events-plugin.com//7.2.3.1//EN
TZID:America/Los_Angeles
X-WR-TIMEZONE:America/Los_Angeles
BEGIN:VEVENT
UID:1262@treglobal.org
DTSTART;TZID=America/Los_Angeles:20150917T133000
DTEND;TZID=America/Los_Angeles:20150917T163000
DTSTAMP:20150708T211015Z
URL:https://treglobal.org/event/toronto-ontario-tre-intro-workshop-open-to
 -general-public/
SUMMARY:Toronto\, Ontario-TRE Intro workshop (open to general public)
DESCRIPTION:Sept 17\, 2015-Toronto\, ON\, Canada- Introductory TRE® class 
   This class is open to the public. Date and time:Thursday\, Sept 17\, 
 1:30pm - 4:30pm Where:The Studio\, Eight Branches Healing Arts Centre\, 3
 58 Dupont St\, Toronto\, ON Cost: Early Bird by Sept 8\, $75 or After Sep
 t 8\, $90(Paypal or e-transfer to my email address) orcheque payable to Pi
 anoscapes\, 61 Jarvis St\, Orillia\, ON\, L3V 2A2 Facilitator: Judy Arche
 r\, MASc\, TRE ® Provider. Judy is also a Visual Artist\, an Inner Relati
 onship Focusing Trainer\, and BodyTalk Practitioner.For a flyer go to www.
 judy-archer.com Live musical Facilitation: Michael Jones\, Pianoscapes T
 o register contact Judy:  judyarcher@rogers.com   
CATEGORIES:Intro Workshops / Recurring Classes / Online Events
LOCATION:Eight Branches Healing Arts\, 358 Dupont St\, Toronto\, Ontario\, 
 M5R 1V9\, Canada
GEO:43.6745992;-79.40997119999997
X-APPLE-STRUCTURED-LOCATION;VALUE=URI;X-ADDRESS=358 Dupont St\, Toronto\, O
 ntario\, M5R 1V9\, Canada;X-APPLE-RADIUS=100;X-TITLE=Eight Branches Healin
 g Arts:geo:43.6745992,-79.40997119999997
END:VEVENT
BEGIN:VTIMEZONE
TZID:America/Los_Angeles
X-LIC-LOCATION:America/Los_Angeles
BEGIN:DAYLIGHT
DTSTART:20150308T030000
TZOFFSETFROM:-0800
TZOFFSETTO:-0700
TZNAME:PDT
END:DAYLIGHT
END:VTIMEZONE
END:VCALENDAR