BEGIN:VCALENDAR
VERSION:2.0
PRODID:-//wp-events-plugin.com//7.2.3.1//EN
TZID:America/Los_Angeles
X-WR-TIMEZONE:America/Los_Angeles
BEGIN:VEVENT
UID:1337@treglobal.org
DTSTART;TZID=America/Los_Angeles:20151112T133000
DTEND;TZID=America/Los_Angeles:20151112T163000
DTSTAMP:20150915T133840Z
URL:https://treglobal.org/event/toronto-ontario-tre-intro-class-open-to-th
 e-public/
SUMMARY:Toronto\, Ontario-TRE Intro class (open to the public)
DESCRIPTION:TRE ® is a series of seven gentle exercises designed to activa
 te the body’s built in mechanism to shake out and reset your nervous sys
 tem from stress\, tension\, trauma and rediscover health and resiliency. W
 e learn the exercises and adapt them to ourselves through self-regulation.
 Cost: Before Nov 4\, $75. After Nov 4\, $90. Reviewers $40.Pay by e-transf
 er or Paypal to my email address or by cheque to Pianoscapes Inc\, 61 Jarv
 is St\, Orillia\, ON L3V 2A2Pre-registration requiredFacilitation: Judy Ar
 cher\, MASc\, Certified TRE™ Provider\, Inner Relationship Focusing Trai
 ner\, BodyTalk Practitioner and has facilitated personal/professional deve
 lopment experiences since 1974. For a flyer go to &lt\;www.judy-archer.co
 m&gt\;Musical facilitation by Michael Jones\, PianoscapesTo register email
  &lt\;judyarcher@rogers.com&gt\;  
CATEGORIES:Intro Workshops / Recurring Classes / Online Events
LOCATION:Eight Branches Healing Arts Centre\, 358 Dupont St\, Toronto\, Ont
 ario\, M5R 1V9\, Canada
GEO:43.6745992;-79.40997119999997
X-APPLE-STRUCTURED-LOCATION;VALUE=URI;X-ADDRESS=358 Dupont St\, Toronto\, O
 ntario\, M5R 1V9\, Canada;X-APPLE-RADIUS=100;X-TITLE=Eight Branches Healin
 g Arts Centre:geo:43.6745992,-79.40997119999997
END:VEVENT
BEGIN:VTIMEZONE
TZID:America/Los_Angeles
X-LIC-LOCATION:America/Los_Angeles
BEGIN:STANDARD
DTSTART:20151101T010000
TZOFFSETFROM:-0700
TZOFFSETTO:-0800
TZNAME:PST
END:STANDARD
END:VTIMEZONE
END:VCALENDAR