BEGIN:VCALENDAR
VERSION:2.0
PRODID:-//wp-events-plugin.com//7.2.3.1//EN
TZID:America/Los_Angeles
X-WR-TIMEZONE:America/Los_Angeles
BEGIN:VEVENT
UID:1654@treglobal.org
DTSTART;TZID=America/Los_Angeles:20160616T133000
DTEND;TZID=America/Los_Angeles:20160616T163000
DTSTAMP:20160524T141434Z
URL:https://treglobal.org/event/toronto-on-tre-intro-class-open-to-the-pub
 lic/
SUMMARY:TORONTO\, ON\,  TRE™ INTRO CLASS (Open to the Public)
DESCRIPTION:Toronto\, ON -Introductory TRE™ class This class is open to 
 the public. Pre-registration is required.This class includes a 1:1 wellnes
 s history conversation with the TRE Provider . Date and time:Thursday\, J
 une 16 2016\, 1:30pm - 4:30pm Where:The Studio\, Eight Branches Healing A
 rts Centre\, 358 Dupont St\, Toronto\, ON Cost: Early Bird $75CAD by June
  13 (Paypal to my email address or cheque to Pianoscapes Inc\, 61 Jarvis S
 t\, Orillia\, ON L3V 2A2) After June 13-$90 CAD Facilitator: Judy Archer
 \, MASc\, Certified TRE ™Provider. Judy is also a Visual Artist\, an Inn
 er Relationship Focusing Trainer\, and BodyTalk Practitioner. A flyer is a
 vailable at www.judy-archer.com Live musical Facilitation: Michael Jones\
 , Pianoscapes To register contact Judy:  judyarcher@rogers.com    
CATEGORIES:Intro Workshops / Recurring Classes / Online Events
LOCATION:The Studio Eight Branches Healing Arts Centre \, 358 Dupont St \, 
 Toronto\, Canada
GEO:43.6745992;-79.40997119999997
X-APPLE-STRUCTURED-LOCATION;VALUE=URI;X-ADDRESS=358 Dupont St \, Toronto\, 
 Canada;X-APPLE-RADIUS=100;X-TITLE=The Studio Eight Branches Healing Arts C
 entre :geo:43.6745992,-79.40997119999997
END:VEVENT
BEGIN:VTIMEZONE
TZID:America/Los_Angeles
X-LIC-LOCATION:America/Los_Angeles
BEGIN:DAYLIGHT
DTSTART:20160313T030000
TZOFFSETFROM:-0800
TZOFFSETTO:-0700
TZNAME:PDT
END:DAYLIGHT
END:VTIMEZONE
END:VCALENDAR