BEGIN:VCALENDAR
VERSION:2.0
PRODID:-//wp-events-plugin.com//7.2.3.1//EN
TZID:America/Los_Angeles
X-WR-TIMEZONE:America/Los_Angeles
BEGIN:VEVENT
UID:1564@treglobal.org
DTSTART;TZID=America/Los_Angeles:20160422T133000
DTEND;TZID=America/Los_Angeles:20160422T163000
DTSTAMP:20160304T224814Z
URL:https://treglobal.org/event/toronto-on-tre-intro-class-open-to-the-pub
 lic-2/
SUMMARY:Toronto\, ON\,  TRE™ INTRO CLASS (Open to the Public)
DESCRIPTION:TRE ® is a series of seven gentle exercises designed to activa
 te the body’s built in mechanism to shake out and reset your nervous sys
 tem from stress\, tension\, trauma and rediscover health and resiliency. W
 e learn the exercises and adapt them to ourselves through self-regulation.
  Cost: Before April 15\, $75. After April 15\, $90. Reviewers $40. Pay by
  e-transfer or Paypal to my email address or by cheque to Pianoscapes Inc\
 , 61 Jarvis St\, Orillia\, ON L3V 2A2 Pre-registration required Facilita
 tion: Judy Archer\, MASc\, Certified TRE™ Provider\, and Inner Relations
 hip Focusing Trainer has facilitated personal/professional development exp
 eriences since 1974.For a flyer go to &lt\;www.judy-archer.com&gt\; Musi
 cal facilitation by Michael Jones\, Pianoscapes To register email &lt\;ju
 dyarcher@rogers.com&gt\;  
CATEGORIES:Intro Workshops / Recurring Classes / Online Events
LOCATION:The Studio Eight Branches Healing Arts Centre \, 358 Dupont St \, 
 Toronto\, Canada
X-APPLE-STRUCTURED-LOCATION;VALUE=URI;X-ADDRESS=358 Dupont St \, Toronto\, 
 Canada;X-APPLE-RADIUS=100;X-TITLE=The Studio Eight Branches Healing Arts C
 entre :geo:0,0
END:VEVENT
BEGIN:VTIMEZONE
TZID:America/Los_Angeles
X-LIC-LOCATION:America/Los_Angeles
BEGIN:DAYLIGHT
DTSTART:20160313T030000
TZOFFSETFROM:-0800
TZOFFSETTO:-0700
TZNAME:PDT
END:DAYLIGHT
END:VTIMEZONE
END:VCALENDAR