BEGIN:VCALENDAR
VERSION:2.0
PRODID:-//wp-events-plugin.com//7.2.3.1//EN
TZID:America/Los_Angeles
X-WR-TIMEZONE:America/Los_Angeles
BEGIN:VEVENT
UID:5411@treglobal.org
DTSTART;TZID=Europe/London:20210710T110000
DTEND;TZID=Europe/London:20210711T180000
DTSTAMP:20210701T044558Z
URL:https://treglobal.org/event/the-fascia-lab-launch-two-day-online-works
 hop-uk/
SUMMARY:The Fascia Lab Launch - Two Day Online Workshop (UK)
DESCRIPTION:2 Day Workshop\n10th -11th July : 11.00 - 6.00pm\nNOW BEING RUN
  AS A BLENDED/HYBRID COURSE\nFascia LAB is a fluid interdisciplinary resea
 rch project\, looking at connection and adaption in the material and socia
 l body. This is where we play\, speculate and think openly together by inv
 iting in influences from other fields artistic and theoretical.\nThis work
 shop is for anyone wishing to understand more about the incredible fluid n
 etworks and tensile structures of the body. As with all things Fascia howe
 ver\, expect to come away with more questions than answers and with a rene
 wed awe in the complexity\, adaptability and wisdom of the human organism.
  \nFor TRE providers it will act as an advanced deep dive\, enhancing how
  you work and give account for change within the body.\nIt is also designe
 d to give practitioners using other therapeutic methods\, scientific insig
 ht into how healing is integrated and can be instigated from the bodies ti
 ssues.\nThough we’ll be using TRE to embody and process the theory\, pri
 or experience of the practice isn’t necessary. \nWe are launching with 
 a two day workshop at Bidston Observatory though it is now possible to att
 end online as well\nPlease email to book or for an info pack\nFor more inf
 ormation\, please contact: contact@trecentre.com
CATEGORIES:Intro Workshops / Recurring Classes / Online Events
LOCATION:ZOOM\, ZOOM\, ZOOM\, USA\, United States
GEO:37.332854;-121.894908
X-APPLE-STRUCTURED-LOCATION;VALUE=URI;X-ADDRESS=ZOOM\, ZOOM\, USA\, United 
 States;X-APPLE-RADIUS=100;X-TITLE=ZOOM:geo:37.332854,-121.894908
END:VEVENT
BEGIN:VTIMEZONE
TZID:Europe/London
X-LIC-LOCATION:Europe/London
BEGIN:DAYLIGHT
DTSTART:20210328T020000
TZOFFSETFROM:+0000
TZOFFSETTO:+0100
TZNAME:BST
END:DAYLIGHT
END:VTIMEZONE
END:VCALENDAR