BEGIN:VCALENDAR
VERSION:2.0
PRODID:-//wp-events-plugin.com//7.2.3.1//EN
TZID:America/Los_Angeles
X-WR-TIMEZONE:America/Los_Angeles
BEGIN:VEVENT
UID:1608@treglobal.org
DTSTART;TZID=America/Los_Angeles:20160528T090000
DTEND;TZID=America/Los_Angeles:20160529T200000
DTSTAMP:20160411T133129Z
URL:https://treglobal.org/event/taller-introductorio-de-tre-en-barcelona/
SUMMARY:Taller Introductorio de TRE en Barcelona
DESCRIPTION:Día 28\, sábado: de 09:30 h. a 20:00 h.Día 29\, domingo: de 
 09:30 h. a 14:00 h.
CATEGORIES:Intro Workshops / Recurring Classes / Online Events
LOCATION:Espai Lasal\, Calle Casanova\, 75\, Barcelona\, España\, Spain
GEO:41.3858978;2.157935899999984
X-APPLE-STRUCTURED-LOCATION;VALUE=URI;X-ADDRESS=Calle Casanova\, 75\, Barce
 lona\, España\, Spain;X-APPLE-RADIUS=100;X-TITLE=Espai Lasal:geo:41.38589
 78,2.157935899999984
END:VEVENT
BEGIN:VTIMEZONE
TZID:America/Los_Angeles
X-LIC-LOCATION:America/Los_Angeles
BEGIN:DAYLIGHT
DTSTART:20160313T030000
TZOFFSETFROM:-0800
TZOFFSETTO:-0700
TZNAME:PDT
END:DAYLIGHT
END:VTIMEZONE
END:VCALENDAR