BEGIN:VCALENDAR
VERSION:2.0
PRODID:-//wp-events-plugin.com//7.2.3.1//EN
TZID:America/Los_Angeles
X-WR-TIMEZONE:America/Los_Angeles
BEGIN:VEVENT
UID:1274@treglobal.org
DTSTART;TZID=America/Los_Angeles:20151107T090000
DTEND;TZID=America/Los_Angeles:20151109T170000
DTSTAMP:20150722T184250Z
URL:https://treglobal.org/event/surrey-british-columbia-canada-tre-global-
 certification-program-november-7892015-900-am-500-pm-2/
SUMMARY: Surrey British Columbia\, Canada-  TRE™ Global Certification Pro
 gram November 7\,8\,9\,2015 9:00 am. - 5:00 pm.
DESCRIPTION:Module 1 -   550$ +GST Saturday November 7\,2015  9am - 5pmS
 unday November 8\,2015     9am- 5pmMonday November 9\, 2015  9am - 5pmM
 odule 1 is open to the general public and can be attended for 1\, 2 or all
  3 days. One day cost is 190.00 + GSTCost:  Special Early Bird Pricing fo
 r all 3 days: $500.00 (+GST) Available until September 15\, 2015.  Modul
 e 2 - $550 (+GST) Friday February 19\, 2016Saturday February 20\, 2016Sun
 day February 21\, 2016(Module 2 is not open to the general public\, is onl
 y for trainees enrolled in the certification process) **All prices above 
 are in Canadian funds and are exclusive of tax** Please note:Additional s
 upervision sessions required for certification.  For more information ple
 ase see link to North American Certification Requirements below or contact
  organizers. Description:   Those certified will be called “Certified
  TRE Providers” and will have the competency needed to teach both indivi
 duals and groups. The training introduces the anatomy\, neurology and phy
 siology of stress and trauma as it relates to TRE and the tremoring proces
 s.  You will learn containment\, grounding and energizing strategies as w
 ell as how to identify the need for and teach self-regulation.  This is a
 n experiential training with a strong focus one’s personal tremoring exp
 erience.Certification Trainer :  Joan McDonald\, RSW\, TRE Certification 
 TrainerJoan Mc Donald \, Registered Social Worker\, Certification Trainer 
 for Canada and Thailand. Joan recently was one of two trainers with TRE Ph
 ilippines Humanitarian project. She taught  TRE in  Myanmar and since J
 anuary of this year presented three Global Certification Training's in Tha
 iland. In November she will be leading a TRE Mission in Nepal.Assisted and
  hosted by:  Christine Steward\, RMT\, TRE Certification Trainer - Train
 ee\, teaching TRE with individuals\, Groups\, and offering introductory TR
 E workshops while supervising trainees in the certification program with J
 oan McDonald. Christine is a talented Cranial Sacral Therapist who brings 
 her understanding and  deep respect for the body to all she does.Register
  and more information contact:Joan McDonald by email at inverlie@gmail.co
 mChristine Steward by email cstewardtre@gmail.com 
CATEGORIES:Certification Trainings
LOCATION:Surrey British Columbia\,  Holiday Inn\, 17530 64th Ave\, Surrey \
 , British Columbia\, V3S 1Y9\, Canada
GEO:49.04576100000001;-122.69626800000003
X-APPLE-STRUCTURED-LOCATION;VALUE=URI;X-ADDRESS= Holiday Inn\, 17530 64th A
 ve\, Surrey \, British Columbia\, V3S 1Y9\, Canada;X-APPLE-RADIUS=100;X-TI
 TLE=Surrey British Columbia:geo:49.04576100000001,-122.69626800000003
END:VEVENT
BEGIN:VTIMEZONE
TZID:America/Los_Angeles
X-LIC-LOCATION:America/Los_Angeles
BEGIN:STANDARD
DTSTART:20151101T010000
TZOFFSETFROM:-0700
TZOFFSETTO:-0800
TZNAME:PST
END:STANDARD
END:VTIMEZONE
END:VCALENDAR