BEGIN:VCALENDAR
VERSION:2.0
PRODID:-//wp-events-plugin.com//7.2.3.1//EN
TZID:America/Los_Angeles
X-WR-TIMEZONE:America/Los_Angeles
BEGIN:VEVENT
UID:1475@treglobal.org
DTSTART;TZID=America/Los_Angeles:20160514T090000
DTEND;TZID=America/Los_Angeles:20160516T170000
DTSTAMP:20160118T135635Z
URL:https://treglobal.org/event/surrey-british-columbia-canada-module-1-ce
 rtification-training/
SUMMARY:Surrey British Columbia\, Canada - Module 1\, Certification Trainin
 g 
DESCRIPTION:  Module 1 -   550$ +GST Saturday May 14\, 2016 9am - 5pmS
 unday May 15\, 2016 9am- 5pmMonday May 16\, 2016 9am - 5pmModule 1 is open
  to the general public and can be attended for 1\, 2 or all 3 days. One da
 y cost is 190.00 + GSTCost:  Special Early Bird Pricing for all 3 days: $
 500.00 (+GST) Available until September 15\, 2016.  Module 2 - $550 (+G
 ST) Friday September 16\, 2016 9am - 5pmSaturday September 17\, 2016 9am 
 - 5pmSunday September 18\, 2016 9am - 5pm(Module 2 is not open to the gene
 ral public\, is only for trainees enrolled in the certification process) 
 **All prices above are in Canadian funds and are exclusive of tax** Pleas
 e note: Additional supervision sessions required for certification.  For 
 more information please see link to North American Certification Requireme
 nts below or contact organizers. Description:   Those certified will be
  called “Certified TRE Providers” and will have the competency needed 
 to teach both individuals and groups. The training introduces the anatomy
 \, neurology and physiology of stress and trauma as it relates to TRE and 
 the tremoring process.  You will learn containment\, grounding and energi
 zing strategies as well as how to identify the need for and teach self-reg
 ulation.  This is an experiential training with a strong focus one’s pe
 rsonal tremoring experience.Certification Trainer :  Joan Mc Donald \, Re
 gistered Social Worker\, Certification Trainer for Canada\, Thailand and N
 epal. Joan was one of two trainers with TRE Philippines Humanitarian proje
 ct. She taught TRE in Myanmar and has established a Global Certification 
 Training  program in Thailand.  She is presently establishing a sustaina
 ble TRE post disaster program in Nepal.Assisted and hosted by:  Christin
 e Steward\, RMT\, TRE Certification Trainer - Trainee\, teaching TRE with 
 individuals\, Groups\, and offering introductory TRE workshops while super
 vising trainees in the certification program with Joan McDonald. Christine
  is a talented Cranial Sacral Therapist who brings her understanding and 
 deep respect for the body to all she does.Register and more information co
 ntact:Joan McDonald by email at inverlie@gmail.comChristine Steward by em
 ail cstewardtre@gmail.com
ATTACH;FMTTYPE=image/jpeg:https://treglobal.org/wp-content/uploads/2016/01
 /tre-flyer2.png
CATEGORIES:Certification Trainings
LOCATION:Surrey British Columbia Canada\, 17530 64th Ave\, Surrey \, Britis
 h Colunbia\, V3S 1Y9\, Canada
GEO:49.118724;-122.73606030000002
X-APPLE-STRUCTURED-LOCATION;VALUE=URI;X-ADDRESS=17530 64th Ave\, Surrey \, 
 British Colunbia\, V3S 1Y9\, Canada;X-APPLE-RADIUS=100;X-TITLE=Surrey Brit
 ish Columbia Canada:geo:49.118724,-122.73606030000002
END:VEVENT
BEGIN:VTIMEZONE
TZID:America/Los_Angeles
X-LIC-LOCATION:America/Los_Angeles
BEGIN:DAYLIGHT
DTSTART:20160313T030000
TZOFFSETFROM:-0800
TZOFFSETTO:-0700
TZNAME:PDT
END:DAYLIGHT
END:VTIMEZONE
END:VCALENDAR