BEGIN:VCALENDAR
VERSION:2.0
PRODID:-//wp-events-plugin.com//7.2.3.1//EN
TZID:America/Los_Angeles
X-WR-TIMEZONE:America/Los_Angeles
BEGIN:VEVENT
UID:5860@treglobal.org
DTSTART;TZID=America/Chicago:20230525T100000
DTEND;TZID=America/Chicago:20230525T110000
DTSTAMP:20230516T173559Z
URL:https://treglobal.org/event/summer-sessions-in-the-parks-minneapolis-s
 t-paul-thursdays/
SUMMARY:Summer Sessions in the Parks -- Minneapolis &amp\; St. Paul Thursda
 ys in Powderhorn Park
DESCRIPTION:Join us for TRE in the Twin Cities of Minneapolis / St. Paul.\n
 \nTension &amp\; Trauma Releasing Exercises (TRE™) is a series of gentle
  movements that activate a natural reflex mechanism of shaking or vibratin
 g in the body. This movement of neurogenic tremoring releases muscular ten
 sion\, calms the nervous system\, and helps release deeply held tension he
 ld in the body. After a TRE™ session\, many people report feelings of pe
 ace and well-being. These sessions are suitable for all ages and fitness l
 evels. Bring a blanket or mat and dress in layers. Please refrain from wea
 ring cologne or perfumes to make the sessions accessible to those with sen
 sitivities. Pay what you choose model. Please complete waivers at belovena
 vigation.com/tre\n\nDates are below:\n\n\n\n\n\nSchedule\n\nMay/June - Thu
 rsdays Mornings: 10 – 11 am May 25\; June 1\, 8\, 22\, 29\; Powderhorn P
 ark\n\nJune - Locations/Times\n\nFriday\, June 2\, 6 – 7 pm\; Gold Medal
  Park\n\nSaturday\, June 24\, 9 – 10 am\; Powderhorn Park\n\nFriday\, Ju
 ne 30\, 6 – 7 pm\; St. Paul\n\nJuly - Locations/Times\n\nThursday\, July
  6\, 10 – 11 am\; Powderhorn Park\n\nSaturday\, July 15\, 9 – 10 am\; 
 St. Paul\n\nFriday\, July 21\, 6 – 7 pm\; Gold Medal Park\n\nSaturday Ju
 ly 22\, 9 – 10 am\; Powderhorn Park\n\nAugust - Thursday Mornings: 10 
 – 11 am\; August 3\, 10\, 17\; Powderhorn Park\n\nAugust 5 – Saturday 
 Morning: 9 – 10 am\; St. Paul\n\nSeptember - Locations/Times\n\nFriday\,
  September 8\, 6 – 7 pm\; Gold Medal Park\n\nSaturday\, Sept 16\, 9 – 
 10 am\; Powderhorn Park\n\nSaturday\, Sept 30\, 9 – 10 am\; Kenwood Park
 \n\nLocation Information:\n\nPowderhorn Park – Near the tennis courts of
 f 10th\n\nSt. Paul – Near Randolph and Fairview\n\nGold Medal Park – U
 nder the Red Sculpture\n\nKenwood Park – Near the playground off Oliver\
 n\n\n\n\n
ATTACH;FMTTYPE=image/jpeg:https://treglobal.org/wp-content/uploads/2023/05
 /CIRCLE.png
CATEGORIES:Intro Workshops / Recurring Classes / Online Events
LOCATION:Powderhorn Park\, Off 10th Ave and 34th\, Minneapolis\, MN\, 55407
 \, United States
X-APPLE-STRUCTURED-LOCATION;VALUE=URI;X-ADDRESS=Off 10th Ave and 34th\, Min
 neapolis\, MN\, 55407\, United States;X-APPLE-RADIUS=100;X-TITLE=Powderhor
 n Park:geo:0,0
END:VEVENT
BEGIN:VTIMEZONE
TZID:America/Chicago
X-LIC-LOCATION:America/Chicago
BEGIN:DAYLIGHT
DTSTART:20230312T030000
TZOFFSETFROM:-0600
TZOFFSETTO:-0500
TZNAME:CDT
END:DAYLIGHT
END:VTIMEZONE
END:VCALENDAR