BEGIN:VCALENDAR
VERSION:2.0
PRODID:-//wp-events-plugin.com//7.2.3.1//EN
TZID:America/Los_Angeles
X-WR-TIMEZONE:America/Los_Angeles
BEGIN:VEVENT
UID:5416@treglobal.org
DTSTART;TZID=America/Chicago:20211106T160000
DTEND;TZID=America/Chicago:20211106T171500
DTSTAMP:20211105T165730Z
URL:https://treglobal.org/event/summer-of-tre-thursdasy-morning-drop-in-cl
 asses-at-powderhorn-park-minneapolis/
SUMMARY:Pop Up Session In Classes at Powderhorn Park\, Minneapolis
DESCRIPTION:Pop-up session to celebrate the beautiful November day.\n\nFore
 cast: 65 degrees!\n\nSign up for text notifications — calendar subject t
 o change and pop ups will be added!\n\nLocal: Text “TRE” to 612-421-71
 20\n\nZoom only: Text “zoomtre” to 612-421-7120\n\nJoin us near the te
 nnis courts off 10th Avenue.\n\nPlease complete paperwork at www.belovemn.
 com/tre\n\n&nbsp\;
ATTACH;FMTTYPE=image/jpeg:https://treglobal.org/wp-content/uploads/2021/06
 /For-TRE-site-4.jpg
CATEGORIES:Intro Workshops / Recurring Classes / Online Events
LOCATION:Powderhorn Park\, 3400 15th Ave. S\, Minneapolis\, MN\, 55407\, Un
 ited States
X-APPLE-STRUCTURED-LOCATION;VALUE=URI;X-ADDRESS=3400 15th Ave. S\, Minneapo
 lis\, MN\, 55407\, United States;X-APPLE-RADIUS=100;X-TITLE=Powderhorn Par
 k:geo:0,0
END:VEVENT
BEGIN:VTIMEZONE
TZID:America/Chicago
X-LIC-LOCATION:America/Chicago
BEGIN:DAYLIGHT
DTSTART:20210314T030000
TZOFFSETFROM:-0600
TZOFFSETTO:-0500
TZNAME:CDT
END:DAYLIGHT
END:VTIMEZONE
END:VCALENDAR