BEGIN:VCALENDAR
VERSION:2.0
PRODID:-//wp-events-plugin.com//7.2.3.1//EN
TZID:America/Los_Angeles
X-WR-TIMEZONE:America/Los_Angeles
BEGIN:VEVENT
UID:5424@treglobal.org
DTSTART;TZID=America/Chicago:20210716T173000
DTEND;TZID=America/Chicago:20210716T184500
DTSTAMP:20210705T164014Z
URL:https://treglobal.org/event/summer-of-tre-friday-evening-shakes-in-min
 neapolis-parks-various-locations/
SUMMARY:Summer of TRE™ Friday Evening Shakes in MInneapolis Parks\, Vario
 us Locations
DESCRIPTION:Summer of TRE™ is a project to share TRE™ with as many huma
 ns as possible\, in Minneapolis Parks at no charge.\n\nSign up for text no
 tifications — calendar subject to change and pop ups will be added!\n\nL
 ocal: Text “summeroftre” to 612-421-7120\n\nZoom only: Text “zoomtre
 ” to 612-421-7120\n\nCalendars can be found at www.belovemn.com/tre\n\n&
 nbsp\;\n\nFriday evening session dates.\n\n5:30 pm - 6:45 pm\n\nJuly 16\, 
 Powderhorn Park location\, near the tennis courts.\n\nJuly 24\, Washburn F
 air Oaks Park\, near MIA\n\nJuly 31\, Bottineau Park\, north of the playgr
 ound\n\nZOOM Sessions: July 9\, 23\, 30\, August 6\, 20\, September 3\, 17
 \n\nAugust 13\, Jackson Square Park\n\nSeptember 10\, Location: TBD\n\n&nb
 sp\;\n\n&nbsp\;
ATTACH;FMTTYPE=image/jpeg:https://treglobal.org/wp-content/uploads/2021/07
 /For-TRE-site.jpg
CATEGORIES:Intro Workshops / Recurring Classes / Online Events
LOCATION:Minneapolis Parks\, Various Locations\, 200 E 24th St.\,  Minneapo
 lis\, MN\, 55405\, United States
X-APPLE-STRUCTURED-LOCATION;VALUE=URI;X-ADDRESS=200 E 24th St.\,  Minneapol
 is\, MN\, 55405\, United States;X-APPLE-RADIUS=100;X-TITLE=Minneapolis Par
 ks\, Various Locations:geo:0,0
END:VEVENT
BEGIN:VTIMEZONE
TZID:America/Chicago
X-LIC-LOCATION:America/Chicago
BEGIN:DAYLIGHT
DTSTART:20210314T030000
TZOFFSETFROM:-0600
TZOFFSETTO:-0500
TZNAME:CDT
END:DAYLIGHT
END:VTIMEZONE
END:VCALENDAR