BEGIN:VCALENDAR
VERSION:2.0
PRODID:-//wp-events-plugin.com//7.2.3.1//EN
TZID:America/Los_Angeles
X-WR-TIMEZONE:America/Los_Angeles
BEGIN:VEVENT
UID:5419@treglobal.org
DTSTART;TZID=America/Chicago:20210702T173000
DTEND;TZID=America/Chicago:20210702T183000
DTSTAMP:20210627T223433Z
URL:https://treglobal.org/event/summer-of-tre-friday-evening-in-gold-medal
 -park/
SUMMARY:Summer of TRE™ Friday Evening in Gold Medal Park
DESCRIPTION:Summer of TRE™ is a project to teach the series of exercises 
 to as many humans as possible\, in Minneapolis Parks.\nClasses are held on
  Wednesdays\, Thursdays\, Friday evenings and Saturdays.\nSign up for text
  notifications -- calendar subject to change and pop ups will be added!\nL
 ocal: Text "summeroftre" to 612-421-7120\nZoom only: Text "zoomtre" to 612
 -421-7120\n\nFor more information visit www.belovemn.com/tre
ATTACH;FMTTYPE=image/jpeg:https://treglobal.org/wp-content/uploads/2021/06
 /For-TRE-site-5.jpg
CATEGORIES:Intro Workshops / Recurring Classes / Online Events
LOCATION:Gold Medal Park\, Second Street and Eleventh Avenue South\, Minnea
 polis\, MN\, 55415\, United States
X-APPLE-STRUCTURED-LOCATION;VALUE=URI;X-ADDRESS=Second Street and Eleventh 
 Avenue South\, Minneapolis\, MN\, 55415\, United States;X-APPLE-RADIUS=100
 ;X-TITLE=Gold Medal Park:geo:0,0
END:VEVENT
BEGIN:VTIMEZONE
TZID:America/Chicago
X-LIC-LOCATION:America/Chicago
BEGIN:DAYLIGHT
DTSTART:20210314T030000
TZOFFSETFROM:-0600
TZOFFSETTO:-0500
TZNAME:CDT
END:DAYLIGHT
END:VTIMEZONE
END:VCALENDAR