BEGIN:VCALENDAR
VERSION:2.0
PRODID:-//wp-events-plugin.com//7.2.3.1//EN
TZID:America/Los_Angeles
X-WR-TIMEZONE:America/Los_Angeles
BEGIN:VEVENT
UID:5412@treglobal.org
DTSTART;TZID=America/Chicago:20210624T100000
DTEND;TZID=America/Chicago:20210624T111500
DTSTAMP:20210623T202918Z
URL:https://treglobal.org/event/summer-of-tre-classes-in-minneapolis-parks
 /
SUMMARY:Summer of TRE™ Classes in Minneapolis Parks
DESCRIPTION:Summer of TRE™ is a project to teach TRE™ to as many humans
  as possible\, in Minneapolis Parks.\nClasses are held on Wednesdays\, Thu
 rsdays\, Friday evenings and Saturdays.\nSign up for text notifications --
  calendar subject to change and pop ups will be added!\nLocal: Text "summe
 roftre" to 612-421-7120\nZoom only: Text "zoomtre" to 612-421-7120\n\n&nbs
 p\;\n\nCalendars can be found at www.belovemn.com/tre\n\nThe parks we are 
 shaking in will be: Webber Park\, Jackson Square\, Powderhorn\, Windom NE\
 , Sheridan Memorial Park\, Gold Medal\, Matthews Park\, Fair Oaks\, Bottin
 eau and Kenwood Park. I'm also hosting several Zooms\, and in case of rain
 \, other scheduled sessions will likely move to  Zoom. I'm envisioning po
 p-ups at the Guthrie public spaces\, MIA and other places. Sign up for tex
 t reminders. 
ATTACH;FMTTYPE=image/jpeg:https://treglobal.org/wp-content/uploads/2021/06
 /For-TRE-site.jpg
CATEGORIES:Intro Workshops / Recurring Classes / Online Events
LOCATION:Webber Park\, 4300 Webber Parkway\, Minneapolis\, MN\, 55412\, Uni
 ted States
X-APPLE-STRUCTURED-LOCATION;VALUE=URI;X-ADDRESS=4300 Webber Parkway\, Minne
 apolis\, MN\, 55412\, United States;X-APPLE-RADIUS=100;X-TITLE=Webber Park
 :geo:0,0
END:VEVENT
BEGIN:VTIMEZONE
TZID:America/Chicago
X-LIC-LOCATION:America/Chicago
BEGIN:DAYLIGHT
DTSTART:20210314T030000
TZOFFSETFROM:-0600
TZOFFSETTO:-0500
TZNAME:CDT
END:DAYLIGHT
END:VTIMEZONE
END:VCALENDAR