BEGIN:VCALENDAR
VERSION:2.0
PRODID:-//wp-events-plugin.com//7.2.3.1//EN
TZID:America/Los_Angeles
X-WR-TIMEZONE:America/Los_Angeles
BEGIN:VEVENT
UID:5413@treglobal.org
DTSTART;TZID=America/Los_Angeles:20210625T173000
DTEND;TZID=America/Los_Angeles:20210625T184500
DTSTAMP:20210623T202447Z
URL:https://treglobal.org/event/summer-of-tre-classes-in-minneapolis-parks
 -2/
SUMMARY:Summer of TRE™ Classes in Minneapolis Parks
DESCRIPTION:Summer of TRE™ is a project to teach TRE™ to as many humans
  as possible\, in Minneapolis Parks.\nClasses are held on Wednesdays\, Thu
 rsdays\, Friday evenings and Saturdays.\nSign up for text notifications 
 — calendar subject to change and pop ups will be added!\nLocal: Text “
 summeroftre” to 612-421-7120\nZoom only: Text “zoomtre” to 612-421-7
 120\n\n&nbsp\;\n\nCalendars can be found at www.belovemn.com/tre\n\n&nbsp\
 ;\n\n\n\n\n\nThe parks we are shaking in will be: Webber Park\, Jackson Sq
 uare\, Powderhorn\, Windom NE\, Sheridan Memorial Park\, Gold Medal\, Matt
 hews Park\, Fair Oaks\, Bottineau and Kenwood Park. I’m also hosting sev
 eral Zooms\, and in case of rain\, other scheduled sessions will likely mo
 ve to  Zoom. I’m envisioning pop-ups at the Guthrie public spaces\, MIA
  and other places. Sign up for text reminders. \n\n\n\n
ATTACH;FMTTYPE=image/jpeg:https://treglobal.org/wp-content/uploads/2021/06
 /For-TRE-site-1.jpg
CATEGORIES:Intro Workshops / Recurring Classes / Online Events
LOCATION:Sheridan Memorial Park\, 1300 Water St. NE\, Minneapolis\, MN\, 55
 413\, United States
X-APPLE-STRUCTURED-LOCATION;VALUE=URI;X-ADDRESS=1300 Water St. NE\, Minneap
 olis\, MN\, 55413\, United States;X-APPLE-RADIUS=100;X-TITLE=Sheridan Memo
 rial Park:geo:0,0
END:VEVENT
BEGIN:VTIMEZONE
TZID:America/Los_Angeles
X-LIC-LOCATION:America/Los_Angeles
BEGIN:DAYLIGHT
DTSTART:20210314T030000
TZOFFSETFROM:-0800
TZOFFSETTO:-0700
TZNAME:PDT
END:DAYLIGHT
END:VTIMEZONE
END:VCALENDAR