BEGIN:VCALENDAR
VERSION:2.0
PRODID:-//wp-events-plugin.com//7.2.3.1//EN
TZID:America/Los_Angeles
X-WR-TIMEZONE:America/Los_Angeles
BEGIN:VEVENT
UID:1597@treglobal.org
DTSTART;TZID=America/Los_Angeles:20160530T180000
DTEND;TZID=America/Los_Angeles:20160530T210000
DTSTAMP:20160406T174024Z
URL:https://treglobal.org/event/stockholm-sweden-tre-intro-workshop-open-t
 o-general-public-3/
SUMMARY:Stockholm\, Sweden - TRE™ Intro workshop (open to general public)
DESCRIPTION:Välkommen till en 3- timmars intro workshop i TRE™. Intro k
 ursen leds av TRE™ Certification Trainer Deva Laya Guleng Här får du 
 lära dig lite om bakgrunden till TRE™ samt du kommer lära dig hur du h
 jälper kroppen att släppa stress\, spänningar och trauma som sitter lag
 rad i kroppen. Tekniken kan du själv fortsätta utöva på egenhand utan 
 att vara beroende av terapeut. Du får lära dig hur du självreglerar. Du
  kommer att få utöva övningarna 2 gånger under dessa 3 timmarna.Invest
 ering 650 kr (200 kr om du redan har gått utbildning innan och vill komma
  för att utöva TRE™ i grupp)ERBJUDANDE: Boka 4 st platser samtidigt oc
 h betala endast för 3!Är du långtidssjukskriven på heltid får du 25% 
 rabatt första gången du deltarNÄR: 30 maj kl 18:00-21:00PLATS: Granen\,
  Mötesrum\, Luntmakargatan 52\, Stockholm Begr antal platser.Läs mer oc
 h gör din anmälan senast 22 maj via http://www.omnibalance.se/se/worksh
 ops-1507248 Varmt välkommen!
ATTACH;FMTTYPE=image/jpeg:https://treglobal.org/wp-content/uploads/2016/04
 /Sthlm.30.maj_.mall_.hemsida.jpg
CATEGORIES:Intro Workshops / Recurring Classes / Online Events
LOCATION:Granen\, Mötesrum\, Luntmakargatan 52\, Stockholm\, Sweden
GEO:59.3402136;18.060792200000037
X-APPLE-STRUCTURED-LOCATION;VALUE=URI;X-ADDRESS=Luntmakargatan 52\, Stockho
 lm\, Sweden;X-APPLE-RADIUS=100;X-TITLE=Granen\, Mötesrum:geo:59.3402136,1
 8.060792200000037
END:VEVENT
BEGIN:VTIMEZONE
TZID:America/Los_Angeles
X-LIC-LOCATION:America/Los_Angeles
BEGIN:DAYLIGHT
DTSTART:20160313T030000
TZOFFSETFROM:-0800
TZOFFSETTO:-0700
TZNAME:PDT
END:DAYLIGHT
END:VTIMEZONE
END:VCALENDAR