BEGIN:VCALENDAR
VERSION:2.0
PRODID:-//wp-events-plugin.com//7.2.3.1//EN
TZID:America/Los_Angeles
X-WR-TIMEZONE:America/Los_Angeles
BEGIN:VEVENT
UID:1251@treglobal.org
DTSTART;TZID=America/Los_Angeles:20150821T094500
DTEND;TZID=America/Los_Angeles:20150823T173000
DTSTAMP:20150628T095644Z
URL:https://treglobal.org/event/stockholm-sweden-tre-certification-trainin
 g-module-i-open-to-general-public-mii-in-october/
SUMMARY:Stockholm\, Sweden - TRE Certification Training Module I (open to g
 eneral public) /MII in october
DESCRIPTION:This workshop is open to anyone. The workshop will be given in 
 English if English-speaking participants\, otherwise given in Swedish.We
  are glad to invite you to this workshop centered around self-healing and 
 self-development with TRE. The weekend will be very practical and is open 
 to anyone – with or without a therapeutic background.To continue with ce
 rtification towards a TRE™ Provider\, you will need to attend the Module
  II September 25th-27th 2015. For certification requirements\, please read
  more here.GoalTo deepen your personal process and to help you experienci
 ng the tremors. Each morning and afternoon session you will be supported t
 hrough the exercises and tremors. We will explore the theory behind the mo
 del.Module 1 will include:Introduction to TREIntroduction and deepening of
  personal tremoring experienceAnatomy\, neurology and physiology of stres
 s and trauma as it relates to TREUnderstanding the tremor responseIntroduc
 tion to the Poly-vagal theoryDefense reactions as they relate to TREContai
 nment and grounding strategiesIntroduction to basic skills of working with
  individuals and groupsDates and times:Module 1:Friday\, Aug 21\, 2015 : 9
 .45 AM to 5.30 PM (lunch break 1-2.30 PM) Saturday\, Aug 22\, 2015 : 9.4
 5 AM to 5.30 PM (lunch break 1-2.30 PM) Sunday\, Aug 23\, 2015 : 9.45 AM
  to 5.30 PM (lunch break 1-2.30 PM) Module 2:(you’ll need to be able to
  attend these dates if you wish to proceed to be certified as TRE™ Provi
 der – if you for some reason have no possibility to attend these dates a
 nd wish to proceed with certification\, please contact us) Friday\, Oct 2
 3\, 2015 : 9.45 AM to 5.30 PM (lunch break 1-2.30 PM) Saturday\, Oct 24\
 , 2015 : 9.45 AM to 5.30 PM (lunch break 1-2.30 PM) Sunday\, Oct 25\, 20
 15 : 9.45 AM to 5.30 PM (lunch break 1-2.30 PM)The way we workThere will 
 be plenty of time for discussion and sharing of your experiences. We will 
 also guide you in developing your skills so you can begin to support other
  people through the exercises.More information:Deva Laya Guleng \;  www.
 tre-for-all.se Venue:To be announced Costs:SEK 4500\,- (incl VAT for pri
 vat persons\, excl. VAT for companies)Sign up latest August 1stRegistratio
 n:Please follow this link to register. For further details please conta
 ct us.Facilitators:Deva Laya Guleng\, TRE™ Certification Trainer   
  
CATEGORIES:Certification Trainings
LOCATION:Venue in Stockholm\, Stockholm\, Stockholm\, Sweden
GEO:59.32932349999999;18.068580800000063
X-APPLE-STRUCTURED-LOCATION;VALUE=URI;X-ADDRESS=Stockholm\, Stockholm\, Swe
 den;X-APPLE-RADIUS=100;X-TITLE=Venue in Stockholm:geo:59.32932349999999,18
 .068580800000063
END:VEVENT
BEGIN:VTIMEZONE
TZID:America/Los_Angeles
X-LIC-LOCATION:America/Los_Angeles
BEGIN:DAYLIGHT
DTSTART:20150308T030000
TZOFFSETFROM:-0800
TZOFFSETTO:-0700
TZNAME:PDT
END:DAYLIGHT
END:VTIMEZONE
END:VCALENDAR