BEGIN:VCALENDAR
VERSION:2.0
PRODID:-//wp-events-plugin.com//7.2.3.1//EN
TZID:America/Los_Angeles
X-WR-TIMEZONE:America/Los_Angeles
BEGIN:VEVENT
UID:5845@treglobal.org
DTSTART;TZID=America/Los_Angeles:20230430T130000
DTEND;TZID=America/Los_Angeles:20230430T150000
DTSTAMP:20230427T041618Z
URL:https://treglobal.org/event/somatic-tre-with-craniosacrel-theraphy-at-
 hunting-beach-reiki-santa-ana-california/
SUMMARY:Somatics + TRE + CranioSacrel Theraphy: At Huntington Beach Reiki\,
  Santa Ana\, California
DESCRIPTION:A Collaboration between Sharon Gonzales certified in Craniosacr
 al Therapy\, Reiki\, and Tension/Trauma Release and Sai Danchuk Certified 
 in TRE\, Emotional Tour and Reiki.\n\nBringing you a Somatic Based Exercis
 e that stretch and fatigue TRE targeted muscles to engage in Neurogenic Tr
 emors - with caraniosacral adjustments that help improve the spinal alignm
 ent and clear energetic blockages increasing the healing benefits of the s
 hakes.\n\nIt's a fun series of exercises that encourages you to connect de
 eper with your body and inner spirit\, as you stretch and fatigue the targ
 eted muscles needed to help the body welcome Neurogenic Tremors. Then you 
 can choose as you tremor or after to get CranioSacrel adjustments to impro
 ve your alignment and further remove blockages from your system to allow d
 eeper healing.\n\nIf you have further questions or inquiries about the ses
 sion\, please call 1-206-271-5790\n\nYour Investment:\nEarly Bird: $49 (Bo
 ok 5days ahead)\nYour Spot: $55\nBring a Friend: $45/each\n\nVisit to book
 :\nhttps://www.eventbrite.com/e/624833081567\n\nIf you'd prefer other form
 s of payment you can use:\nVenmo: @Sai-Danchuk\nCashApp: $SolutionsAmI\nZe
 lle/PayPal: sbjsun@gmail.com\nCash - RSVP required to ensure there's spots
  available
ATTACH;FMTTYPE=image/jpeg:https://treglobal.org/wp-content/uploads/2023/04
 /Picsart_23-04-26_20-56-18-657.jpg
CATEGORIES:Intro Workshops / Recurring Classes / Online Events
LOCATION:Huntington Beach Reiki\, 2730 S Harbor Blvd Suite H\, Santa Ana\, 
 CA\, 92704\, Orange County California\, United States
X-APPLE-STRUCTURED-LOCATION;VALUE=URI;X-ADDRESS=2730 S Harbor Blvd Suite H\
 , Santa Ana\, CA\, 92704\, Orange County California\, United States;X-APPL
 E-RADIUS=100;X-TITLE=Huntington Beach Reiki:geo:0,0
END:VEVENT
BEGIN:VTIMEZONE
TZID:America/Los_Angeles
X-LIC-LOCATION:America/Los_Angeles
BEGIN:DAYLIGHT
DTSTART:20230312T030000
TZOFFSETFROM:-0800
TZOFFSETTO:-0700
TZNAME:PDT
END:DAYLIGHT
END:VTIMEZONE
END:VCALENDAR