BEGIN:VCALENDAR
VERSION:2.0
PRODID:-//wp-events-plugin.com//7.2.3.1//EN
TZID:America/Los_Angeles
X-WR-TIMEZONE:America/Los_Angeles
BEGIN:VEVENT
UID:6035@treglobal.org
DTSTART;TZID=Asia/Kuala_Lumpur:20240427T173000
DTEND;TZID=Asia/Kuala_Lumpur:20240427T184500
DTSTAMP:20240403T235640Z
URL:https://treglobal.org/event/shake-it-off-saturday-530pm-in-person-begi
 nner-tre-in-kuala-lumpur-malaysia-4/
SUMMARY:Shake It Off! (Saturday 5:30pm\, In person Beginner TRE) in Kuala L
 umpur\, Malaysia
DESCRIPTION:Beginner’s TRE class\n\nPerfect for those whom have never exp
 erienced a TRE class\, is working towards self-practice\, need a refresher
  on their TRE Practise\, or just want the benefits of a group Shake Sessio
 n.\n\nThis class is conducted in a light and fun way to ease you into the 
 practice of self trust as you learn to engage in Neurogenic Tremors.\n\nTy
 pically people are in a better mood and feel emotionally lighter after cla
 ss.\n\nIf you do have any physical health issues\, please let me know so w
 e can make sure this is the right class for you a different class may be b
 etter. Location will either be at The InnerLynk in Publika or Holistic Blo
 om at Plaza Mont Kiara (Will be decided by Thursday before the Saturday se
 ssion depending on the number of participants). Both locations have easy p
 aid parking lots and lift access.\n\nTo prepare for the class please:\n1. 
 Dress in comfortable clothes for light exercises and to shake. Nothing tig
 ht or restrictive. Typical exercise clothes are good\, if you wear a skirt
  (also wear shorts or bring a cover because the tremor position is parted 
 knees on the ground)\n\n2. Yoga Mat\n\n3. Bring something to support your 
 neck and lower back especially – at least 2 – soft pillows / large tow
 els / large t-shirt.\nBring more than 2 if you also need to support your s
 houlders and feet (People with feet issues tend to need something soft to 
 support their feet)\n\n4. Bring a Blanket or jacket to cover up in case yo
 u feel cold during the shake session.\n\n5. Drinking Water\n\n&nbsp\;\n\nE
 nergy Exchange:\nRM70/person (Save RM50 on April Promo\, regular RM120)\nB
 ring a friend RM50/each (Save RM70 each)\n\nRSVP required\, small class\, 
 max 7 per session to ensure each participant is fully supported in their r
 elease experience.\n\nIf you have questions or concerns please contact me:
 \nText/Call/Whatsapp: +6012-253-4814\nSocial Media:\nhttp://facebook.com/s
 ojournandinsight\nhttp://instagram.com/sojournandinsight\nEmail: sojournan
 dinsight@gmail.com\n\nContact me if you’re interested in:\n1. Online ses
 sions\n2. One on One Sessions (Online or In Person)\n3. Private Couples or
  Group Sessions (Online or In Person)
ATTACH;FMTTYPE=image/jpeg:https://treglobal.org/wp-content/uploads/2024/04
 /Picsart_24-04-04_07-26-05-706-3.jpg
CATEGORIES:Intro Workshops / Recurring Classes / Online Events
LOCATION:Publika or Plaza Mont Kiara\, Kuala Lumpur\, Publika or Plaza Mont
  Kiara\, Kuala Lumpur\, Wilayah Persekutuan\, 50480\, Malaysia
X-APPLE-STRUCTURED-LOCATION;VALUE=URI;X-ADDRESS=Publika or Plaza Mont Kiara
 \, Kuala Lumpur\, Wilayah Persekutuan\, 50480\, Malaysia;X-APPLE-RADIUS=10
 0;X-TITLE=Publika or Plaza Mont Kiara\, Kuala Lumpur:geo:0,0
END:VEVENT
BEGIN:VTIMEZONE
TZID:Asia/Kuala_Lumpur
X-LIC-LOCATION:Asia/Kuala_Lumpur
BEGIN:STANDARD
DTSTART:20230428T173000
TZOFFSETFROM:+0800
TZOFFSETTO:+0800
TZNAME:+08
END:STANDARD
END:VTIMEZONE
END:VCALENDAR