BEGIN:VCALENDAR
VERSION:2.0
PRODID:-//wp-events-plugin.com//7.2.3.1//EN
TZID:America/Los_Angeles
X-WR-TIMEZONE:America/Los_Angeles
BEGIN:VEVENT
UID:1345@treglobal.org
DTSTART;TZID=America/Los_Angeles:20151104T180000
DTEND;TZID=America/Los_Angeles:20151104T193000
DTSTAMP:20150924T212311Z
URL:https://treglobal.org/event/santa-barbara-tre-introductory-class-serie
 s/
SUMMARY:SANTA BARBARA ~ TRE™ Introductory Class Series!
DESCRIPTION:Join us for this TRE™ Introductory Class Series!(Tension &am
 p\; Trauma Releasing Exercises)(3) Consecutive Wednesdays in November\, 20
 15Wednesday \, November 4\, 2015\, 6:00 – 7:30 pm Wednesday \, November
  11\, 2015\, 6:00 – 7:30 pmWednesday \, November 18\, 2015\, 6:00 – 7:
 30 pm  This Series of classes is perfect for those who are brand new to 
 TRE™ as well as those who are already familiar with the practice and wou
 ld like to take their practice to the next level.If you thrive in groups a
 nd want support while establishing a regular practice then this is the per
 fect opportunity for you.PRE-REGISTRATION REQUIRED Please call me\, Daphne
 \, at (805) 259-7462  e-mail me at Daphne@Sollievo.co Register online at:
 www.trecentralcoast.com/classesWhile on the website make sure to sign-up t
 o our mailing list so we can keep you informed of future class offerings i
 n the Central Coast.I am looking forward to connecting with you.
CATEGORIES:Intro Workshops / Recurring Classes / Online Events
LOCATION:Sheng Zhen Center for Self-Healing\, 20 W. Calle Laureles\, Santa 
 Barbara\, CA\, 93105\, "Upper State Area"\, United States
GEO:34.4396071;-119.72832310000001
X-APPLE-STRUCTURED-LOCATION;VALUE=URI;X-ADDRESS=20 W. Calle Laureles\, Sant
 a Barbara\, CA\, 93105\, \"Upper State Area\"\, United States;X-APPLE-RADI
 US=100;X-TITLE=Sheng Zhen Center for Self-Healing:geo:34.4396071,-119.7283
 2310000001
END:VEVENT
BEGIN:VTIMEZONE
TZID:America/Los_Angeles
X-LIC-LOCATION:America/Los_Angeles
BEGIN:STANDARD
DTSTART:20151101T010000
TZOFFSETFROM:-0700
TZOFFSETTO:-0800
TZNAME:PST
END:STANDARD
END:VTIMEZONE
END:VCALENDAR