BEGIN:VCALENDAR
VERSION:2.0
PRODID:-//wp-events-plugin.com//7.2.3.1//EN
TZID:America/Los_Angeles
X-WR-TIMEZONE:America/Los_Angeles
BEGIN:VEVENT
UID:1320@treglobal.org
DTSTART;TZID=America/Los_Angeles:20151107T143000
DTEND;TZID=America/Los_Angeles:20151107T170000
DTSTAMP:20150903T091955Z
URL:https://treglobal.org/event/san-francisco-california-usa-neurogenic-yo
 ga-introductory-workshop-2/
SUMMARY:San Francisco\, California\, USA - Neurogenic Yoga™ Introductory 
 Workshop
DESCRIPTION:Date and Time:Saturday November 7th 2015  – 2:30pm – 5:00p
 m Where:Jewish Community Center3200 California StreetSan Francisco\, CA 
  Cost: $50  Facilitator:Maria Alfaro\, TRE™ and Neurogenic Yoga™ C
 ertification Trainer. Since 2004 Maria taught TRE to thousands of people i
 n the US\, Europe\, Canada\, Asia and the Middle East and she assisted Dr.
 Berceli in numerous trainings in the US and in South Africa. She is also a
 n E-RYT and one of two lead instructors for Neurogenic Yoga.  For more inf
 ormation about the workshop contact Maria atmaria@NeurogenicYoga.com or ca
 ll her at 831-462 1846Her websites are www.NeurogenicYoga.com and www.TREc
 alifornia.com Logistical information and registration:www.jccsf.org (you
  can find the workshop on their calendar page)
ATTACH;FMTTYPE=image/jpeg:https://treglobal.org/wp-content/uploads/2015/09
 /maria-ny4.jpg
CATEGORIES:Intro Workshops / Recurring Classes / Online Events
LOCATION:Jewish Community Center\, 3200 California Avenue\, San Francisco\,
  California\, United States
GEO:37.787374;-122.44735509999998
X-APPLE-STRUCTURED-LOCATION;VALUE=URI;X-ADDRESS=3200 California Avenue\, Sa
 n Francisco\, California\, United States;X-APPLE-RADIUS=100;X-TITLE=Jewish
  Community Center:geo:37.787374,-122.44735509999998
END:VEVENT
BEGIN:VTIMEZONE
TZID:America/Los_Angeles
X-LIC-LOCATION:America/Los_Angeles
BEGIN:STANDARD
DTSTART:20151101T010000
TZOFFSETFROM:-0700
TZOFFSETTO:-0800
TZNAME:PST
END:STANDARD
END:VTIMEZONE
END:VCALENDAR