BEGIN:VCALENDAR
VERSION:2.0
PRODID:-//wp-events-plugin.com//7.2.3.1//EN
TZID:America/Los_Angeles
X-WR-TIMEZONE:America/Los_Angeles
BEGIN:VEVENT
UID:1533@treglobal.org
DTSTART;TZID=America/Los_Angeles:20191207T133000
DTEND;TZID=America/Los_Angeles:20191207T160000
DTSTAMP:20190913T081427Z
URL:https://treglobal.org/event/san-francisco-ca-neurogenic-yoga-intro-wor
 kshop-2/
SUMMARY:San Francisco\, CA - TRE  Introductory  Workshop
DESCRIPTION:This introductory workshop not only allows you to experience th
 e tremoring response in a safe environment \, but also gives you a foundat
 ion for understanding this natural neuro-physiological response. Learn abo
 ut the history and origin of TRE and how it helps to release stress\, tens
 ion and trauma patterns.\n\nMost people describe the tremoring experience 
 as pleasant and report many improvements in their physical and emotional s
 tate.\n\nSpace is limited: register early!\nDate and Time:\nSaturday\, Dec
 ember 7\, 2019 – 1:30pm– 4:00pm\nWhere:\nIntegral Yoga Institute\n\n77
 0 Dolores street\nSan Francisco\, CA 94110\nCost:\n\n$50\n\nFacilitator:\n
 \nMaria Alfaro\, Senior TRE™ and Neurogenic Yoga™ Certification Traine
 r. Since 2004 Maria taught TRE to thousands of people in the US\, Europe\,
  Canada\, Asia and the Middle East\, she assisted Dr.Berceli in numerous t
 rainings in the US\,  South Africa\, Brazil and Japan and she lead over h
 undred Certification Trainings worldwide. She is also an E-RYT and one of 
 two co-creators of Neurogenic Yoga\, a sister method of TRE.\nHer websites
  are www.TREcalifornia.com and www.NeurogenicYoga.com\n\nQuestions:  m
 aria@TREcalifornia.com\n\nRegistration: http://www.integralyogasf.org\n\n
 &nbsp\;
ATTACH;FMTTYPE=image/jpeg:https://treglobal.org/wp-content/uploads/2016/02
 /maria-ny.jpg
CATEGORIES:Intro Workshops / Recurring Classes / Online Events
LOCATION:Integral Yoga Institute\, 770 Dolores Street\, San Francisco\, Cal
 ifornia\, 94110\, United States
GEO:37.7570742;-122.42614309999999
X-APPLE-STRUCTURED-LOCATION;VALUE=URI;X-ADDRESS=770 Dolores Street\, San Fr
 ancisco\, California\, 94110\, United States;X-APPLE-RADIUS=100;X-TITLE=In
 tegral Yoga Institute:geo:37.7570742,-122.42614309999999
END:VEVENT
BEGIN:VTIMEZONE
TZID:America/Los_Angeles
X-LIC-LOCATION:America/Los_Angeles
BEGIN:STANDARD
DTSTART:20191103T010000
TZOFFSETFROM:-0700
TZOFFSETTO:-0800
TZNAME:PST
END:STANDARD
END:VTIMEZONE
END:VCALENDAR