BEGIN:VCALENDAR
VERSION:2.0
PRODID:-//wp-events-plugin.com//7.2.3.1//EN
TZID:America/Los_Angeles
X-WR-TIMEZONE:America/Los_Angeles
BEGIN:VEVENT
UID:1328@treglobal.org
DTSTART;TZID=America/Los_Angeles:20160429T093000
DTEND;TZID=America/Los_Angeles:20160501T170000
DTSTAMP:20150908T211622Z
URL:https://treglobal.org/event/san-diego-california-usa-tre-certification
 -training-module-1/
SUMMARY:San Diego\, California\, USA - TRE Certification Training - Module 
 1
DESCRIPTION:LIVING UBUNTU &amp\; SOUTHERN CALIFORNIA INSTITUTE FOR BIOENERG
 ETIC ANALYSISTension and Trauma Releasing Exercises (TRE)Global Certificat
 ion TrainingsSAN DIEGO\, CALIFORNIA Module IFriday\, April 29\, 2016 : 09
 :30 AM to 05:00 PMSaturday\, April 30\, 2016 : 09:30 AM to 05:00 PMSunday\
 , May 1\, 2016 : 09:30 AM to 05:00 PMOpen to the public. Early Registrati
 on (ends 4/1/16): $400.00 Registration (ends 4/22/16): $500.00---Module II
 Friday\, August 26\, 2016 : 09:30 AM to 05:00 PMSaturday\, August 27\, 201
 6 : 09:30 AM to 05:00 PMSunday\, August 28\, 2016: 09:30 AM to 05:00 PMOpe
 n only to those who have completed Module I and are in the certification p
 rocess. Early Registration (ends 7/29/16): $400.00 Registration (ends 8/1
 9/16): $500.00***For more info on these trainings in San Diego (plus addit
 ional trainings in Orange County) or to register\, click here.***If you ar
 e seeking certification\, please check the dates to make sure you can atte
 nd both trainings in the same location  (i.e. both Module I &amp\; II in O
 range County\, or both Module I &amp\; II in San Diego). Also\, please not
 e that in addition to attending these trainings\, there are additional req
 uirements in order to become a Certified TRE Provider. Certified TRE™ Pr
 ovider/North American Certification Training Program  ***Tension &amp\; Tr
 auma Releasing Exercises (TRE) is an easy to learn body-centered method cr
 eated by Dr. David Berceli. Successfully used in many different countries 
 and conflict zones\, it is a simple technique that helps release stress or
  tension from the body that accumulates from every day circumstances of li
 fe\, difficult situations\, immediate or prolonged stressful situations\, 
 or traumatic life experiences (e.g.\, natural disasters\, social or domest
 ic violence\, PTSD). Symptoms of unresolved trauma or chronic stress may i
 nclude difficulties such as anxiety\, depression\, insomnia\, body pain or
  trouble concentrating.TRE consists of six simple exercises that help indi
 viduals release tension from the muscles\, which in turn relaxes the anxie
 ty of our minds\, by evoking a muscular shaking process in the body. The e
 xercises elicit this shaking in a controlled and sustained manner. When ev
 oked in this way\, this shaking\, also called “self-induced therapeutic 
 tremors” or “neurogenic tremors”\, begins to release deep chronic mu
 scular tension held within the body.Workshop description: These trainings 
 will teach the new global certification program launched in the Fall of 20
 14. Module I is open to everyone wanting to learn TRE. Module II is open t
 o only those wanting to be certified to teach the TRE and have taken Modul
 e I. There are additional certification requirements.Please wear soft\, fl
 exible clothing that does not restrict breathing or movement. Optional: So
 me of the exercises are done lying on the floor. While the workshop room i
 s carpeted\, please feel free to bring a mat or blanket to lie on to incre
 ase your comfort\,Workshop content and participation in somatic exercises\
 , while safe and effective\, could lead to physical or emotional upset. Ea
 ch participant needs to stay within their own physical and emotional abili
 ty.* * *Presenters:Barbara English\, LMFT is a Licensed Marriage Family Th
 erapist\, Certified Bioenergetic Therapist\, Certified TRE Provider\, and 
 TRE Certification Trainer with over 20 years of experience in psychotherap
 y. Her training included a strong focus on Early Development and Infant Me
 ntal Health. Working from a mind-body perspective\, she utilizes relationa
 l somatic methods as part of the healing process for those seeking recover
 y after abuse or trauma. Recognizing that current Western models of recove
 ry are grossly inadequate for addressing the pervasiveness of traumatized 
 societies\, locally and globally\, she founded Living Ubuntu in 2005 and s
 erves as its volunteer Executive Director. She is a 2009 Carl Wilkens Fell
 ow.Terri Martin\, LCSW is a Licensed Clinical Social Worker\, Certified Bi
 oenergetic Therapist\, Certified TRE Provider\, and TRE Certification Trai
 ner Trainee in private practice as a psychotherapist in San Diego. Additio
 nally she is a Trainer for the Southern California Institute of Bioenerget
 ic Analysis and Core Adjunct Faculty in the Department of Psychology at Na
 tional University\, and Faculty at Pacific College of Oriental Medicine. I
 n her practice she blends traditional therapeutic methods with body-orient
 ed techniques to help people release tension\, express emotions\, and expe
 rience more energy and pleasure in their lives and their relationships.* *
  * Cancellation Policy: Fees are refundable less $25.00 processing fee\, i
 f written request received no later than 7 days prior to the training.Ques
 tions?  For more info call 949.891.2005\, or email info@livingubuntu.org.
 * * *The inner development of compassion\, caring and sensitivity to the p
 ain of humanity emerges as a result of recovering from one’s own painful
  experiences of life. – Dr. David Berceli 
CATEGORIES:Certification Trainings
LOCATION:San Diego\, San Diego\, San Diego\, California\, Southern Californ
 ia\, United States
GEO:32.715738;-117.16108380000003
X-APPLE-STRUCTURED-LOCATION;VALUE=URI;X-ADDRESS=San Diego\, San Diego\, Cal
 ifornia\, Southern California\, United States;X-APPLE-RADIUS=100;X-TITLE=S
 an Diego:geo:32.715738,-117.16108380000003
END:VEVENT
BEGIN:VTIMEZONE
TZID:America/Los_Angeles
X-LIC-LOCATION:America/Los_Angeles
BEGIN:DAYLIGHT
DTSTART:20160313T030000
TZOFFSETFROM:-0800
TZOFFSETTO:-0700
TZNAME:PDT
END:DAYLIGHT
END:VTIMEZONE
END:VCALENDAR