BEGIN:VCALENDAR
VERSION:2.0
PRODID:-//wp-events-plugin.com//7.2.3.1//EN
TZID:America/Los_Angeles
X-WR-TIMEZONE:America/Los_Angeles
BEGIN:VEVENT
UID:1583@treglobal.org
DTSTART;TZID=America/Los_Angeles:20160709T093000
DTEND;TZID=America/Los_Angeles:20160711T180000
DTSTAMP:20160322T223658Z
URL:https://treglobal.org/event/rosmalen-netherlands-tre-certification-tra
 ining-open-to-general-public-module-1-9-11-july-module-2-10-12-december/
SUMMARY:Rosmalen\, Netherlands - TRE™ Certification Training (open to gen
 eral public) Module 1\, 9 - 11 july / Module 2\, 10-12 december
DESCRIPTION:De 3 daagse TRE training (Module 1)Is zeer praktisch van aard\,
  voor iedereen toegankelijk\, ook zonder therapeutische achtergrond. Zeer 
 geschikt wanneer je in korte tijd je persoonlijke proces een flinke boost 
 willen geven. Je krijgt een mooi instrument aangereikt voor zelfheling. De
 ze training is voor professionals de 1e stap om zich te certificeren.Doel 
 van de M1 training Het doel van de training is om je persoonlijk proces te
  verdiepen en te ervaren wat de tremoren (trillingen) met je doen. Elke oc
 htend en middag doen we een TRE sessie en begeleiden we je in alle oefenin
 gen en verdiepen we ons in de theorie.Werkwijze We verkennen de theorie ac
 hter de methodiek\, laten filmpjes zien en is er ruim voldoende tijd voor 
 het stellen van vragen en om elkaars ervaringen te delen.  We zorgen voor
  een veilige en prettige werksfeer. Je hoeft niets te delen wat je niet wi
 lt delen. We geven je ook een eerste ervaring hoe het is om een ander te b
 egeleiden in TRE.CertificeringOm TRE provider te worden dien je zowel M1 a
 ls M2 te volgen en daarbij te voldoen aan de overige certificeringseisen.
  Wil je je certificeren als TRE Provider? Na het volgen van de M1 hoef je 
 deze keus pas te maken. Meer info hierover kun je bij ons opvragen. Vraag
  de brochure aan voor meer info over de Module 1 trainingProgramma onderde
 len TRE Module 1Een globaal overzicht.Relatie tussen Stress\, Spanning en 
 TraumaVerschillende soorten traumaHoe reageert ons lichaam op stress en sp
 anning?Post Traumatische Stress Stoornis\, angst\, depressieImpact TRE op 
 ons brein\, zenuwstelsel\, spieren en hormoonhuishouding.De psoas spier\; 
 de trigger voor de vlucht-vecht responsTremoren bij dieren\, kinderen en v
 olwassenenAanleren methode om trilling/tremoren op te wekken.Elk dagdeel e
 en TRE sessieZelf-regulering tremoren op een veilige manier ervarenTijd vo
 or vragen\, zelfreflectie en het delen van ervaringenKosten Vroegboekkorti
 ng: Bij betaling minimaal 3 maanden voor de startdatum van de training: 
 € 475\,- excl BTW.  Normale bedrag 3-daagse: € 525\,- excl btw. Part
 iculieren: wanneer je geen btw kunt aftrekken\, krijg je 15% korting op he
 t inclusief btw bedrag. TrainerMarc Doomernik\, Level 3 Trainer trainee.
   Marc’s training &amp\; coaching includes NLP\, Family and Organizatio
 nal Constellations\, Solution Focused Coaching\, PMA (Progressive Mental A
 lignment) \, TA\, RET\, and TRE (Tension Release Exercises). veel meer inf
 o te vinden op de website\; verfrissende-blik.nl
CATEGORIES:Certification Trainings
LOCATION:Boerderij Kattenbosch \, Pastoor Hordijkstraat 5c\, Rosmalen\, Noo
 rd Brabant\, 5243TG\, Netherlands
GEO:51.7177324;5.370241999999962
X-APPLE-STRUCTURED-LOCATION;VALUE=URI;X-ADDRESS=Pastoor Hordijkstraat 5c\, 
 Rosmalen\, Noord Brabant\, 5243TG\, Netherlands;X-APPLE-RADIUS=100;X-TITLE
 =Boerderij Kattenbosch :geo:51.7177324,5.370241999999962
END:VEVENT
BEGIN:VTIMEZONE
TZID:America/Los_Angeles
X-LIC-LOCATION:America/Los_Angeles
BEGIN:DAYLIGHT
DTSTART:20160313T030000
TZOFFSETFROM:-0800
TZOFFSETTO:-0700
TZNAME:PDT
END:DAYLIGHT
END:VTIMEZONE
END:VCALENDAR