BEGIN:VCALENDAR
VERSION:2.0
PRODID:-//wp-events-plugin.com//7.2.3.1//EN
TZID:America/Los_Angeles
X-WR-TIMEZONE:America/Los_Angeles
BEGIN:VEVENT
UID:1580@treglobal.org
DTSTART;TZID=America/Los_Angeles:20160702T093000
DTEND;TZID=America/Los_Angeles:20160704T180000
DTSTAMP:20160322T223736Z
URL:https://treglobal.org/event/rosmalen-netherlands-tre-certification-tra
 ining-module-1/
SUMMARY:Rosmalen\, Netherlands - TRE certification Training - Module 1
DESCRIPTION:De 3 daagse TRE training (Module 1)Is zeer praktisch van aard\,
  voor iedereen toegankelijk\, ook zonder therapeutische achtergrond. Zeer 
 geschikt wanneer je in korte tijd je persoonlijke proces een flinke boost 
 willen geven. Je krijgt een mooi instrument aangereikt voor zelfheling. De
 ze training is voor professionals de 1e stap om zich te certificeren.Certi
 ficeringOm TRE provider te worden dien je zowel M1 als M2 te volgen en daa
 rbij te voldoen aan de overige certificeringseisen. Wil je je certificere
 n als TRE Provider? Na het volgen van de M1 hoef je deze keus pas te maken
 . Meer info hierover kun je bij ons opvragen. Vraag de brochure aan voor 
 meer info over de Module 1 trainingProgramma onderdelen TRE Module 1Een gl
 obaal overzicht.Relatie tussen Stress\, Spanning en TraumaVerschillende so
 orten traumaHoe reageert ons lichaam op stress en spanning?Post Traumatisc
 he Stress Stoornis\, angst\, depressieImpact TRE op ons brein\, zenuwstels
 el\, spieren en hormoonhuishouding.De psoas spier\; de trigger voor de vlu
 cht-vecht responsTremoren bij dieren\, kinderen en volwassenenAanleren met
 hode om trilling/tremoren op te wekken.Elk dagdeel een TRE sessieZelf-regu
 lering tremoren op een veilige manier ervarenTijd voor vragen\, zelfreflec
 tie en het delen van ervaringenKostenVroegboekkorting: Bij betaling minima
 al 3 maanden voor de startdatum van de training: € 475\,- excl BTW.  No
 rmale bedrag 3-daagse: € 525\,- excl btw. Particulieren: wanneer je geen
  btw kunt aftrekken\, krijg je 15% korting op het inclusief btw bedrag. T
 rainerMarc Doomernik\, Level 3 Trainer trainee.  Marc’s training &amp\; 
 coaching includes NLP\, Family and Organizational Constellations\, Solutio
 n Focused Coaching\, PMA (Progressive Mental Alignment) \, TA\, RET\, and 
 TRE (Tension Release Exercises). veel meer info te vinden op de website\; 
 verfrissende-blik.nl
LOCATION:Boerderij Kattenbosch\, Pastoor Hordijkstraat 5c\, Rosmalen\, Nied
 erlande\, 5243 TG\, Noord Brabant\, Netherlands
GEO:51.7177324;5.370241999999962
X-APPLE-STRUCTURED-LOCATION;VALUE=URI;X-ADDRESS=Pastoor Hordijkstraat 5c\, 
 Rosmalen\, Niederlande\, 5243 TG\, Noord Brabant\, Netherlands;X-APPLE-RAD
 IUS=100;X-TITLE=Boerderij Kattenbosch:geo:51.7177324,5.370241999999962
END:VEVENT
BEGIN:VTIMEZONE
TZID:America/Los_Angeles
X-LIC-LOCATION:America/Los_Angeles
BEGIN:DAYLIGHT
DTSTART:20160313T030000
TZOFFSETFROM:-0800
TZOFFSETTO:-0700
TZNAME:PDT
END:DAYLIGHT
END:VTIMEZONE
END:VCALENDAR