BEGIN:VCALENDAR
VERSION:2.0
PRODID:-//wp-events-plugin.com//7.2.3.1//EN
TZID:America/Los_Angeles
X-WR-TIMEZONE:America/Los_Angeles
BEGIN:VEVENT
UID:1584@treglobal.org
DTSTART;TZID=America/Los_Angeles:20161210T090000
DTEND;TZID=America/Los_Angeles:20161212T180000
DTSTAMP:20160322T223515Z
URL:https://treglobal.org/event/rosmalen-netherlands-module-2-certificatio
 n-training-10-12-december-2016/
SUMMARY:Rosmalen\, Netherlands - Module 2 Certification Training\, 10 - 12 
 december 2016
DESCRIPTION:De 3 daagse TRE training (Module 2) Doel van de M2 trainingHet
  doel van de training is uiteraard om je persoonlijk proces nog verder te 
 verdiepen. Daarbij staat jouw rol als (groeps)begeleider centraal. Je hebt
  inmiddels al met wat oefen-clienten gewerkt. Nu wordt het tijd voor verdi
 eping: Welke patronen in tremoren leer ik herkennen?  Hoe voorkom ik freez
 e/dissocieren bij mijn client(en)?  Hoe zorg ik voor veiligheid bij de ind
 ividu en de gehele groep?  Welke interventies kan ik toepassen om de clien
 t\, het lichaam\, op een diepere laag te laten ontspannen?  etc.Programma 
 Module 2Heb je besloten om je te certificeren als TRE Provider dan volg je
  ook de M2.• Verdieping theorie + groepsbegeleiding staat centraal• Bi
 ndweefsel (fascia) en fascia stretch• Soorten tremoren• Hands-off / ha
 nds-on interventies (beschermend\, zelf regulerend\, containment)• Overd
 racht - tegenoverdracht• Verdieping persoonlijk proces• Groei door tra
 uma• Groepsdynamieken\, rol van de groepsbegeleider• Grounding als beg
 eleider• Begeleiden van groepen• Ruimte voor vragenData module 2Saturd
 ay\, december 10\, 2016 09.00 am to 06.00 pmSunday\, december 11\, 2016 09
 .00 am to 06.00 pmMonday\, december 12\, 2016 09.00 am to 06.00 pm Kosten
 Bedrag 3-daagse: € 525\,- excl btw. Particulieren: wanneer je geen btw k
 unt aftrekken\, krijg je 15% korting op het inclusief btw bedrag. Trainer
 Marc Doomernik\, Level 3 Trainer trainee.  Marc’s training &amp\; coac
 hing includes NLP\, Family and Organizational Constellations\, Solution Fo
 cused Coaching\, PMA (Progressive Mental Alignment) \, TA\, RET\, and TRE 
 (Tension Release Exercises). veel meer info te vinden op de website\; verf
 rissende-blik.nl
CATEGORIES:Certification Trainings
LOCATION:Boerderij Kattenbosch\, Pastoor Hordijkstraat 5c\, Rosmalen\, Nied
 erlande\, 5243 TG\, Noord Brabant\, Netherlands
GEO:51.7177324;5.370241999999962
X-APPLE-STRUCTURED-LOCATION;VALUE=URI;X-ADDRESS=Pastoor Hordijkstraat 5c\, 
 Rosmalen\, Niederlande\, 5243 TG\, Noord Brabant\, Netherlands;X-APPLE-RAD
 IUS=100;X-TITLE=Boerderij Kattenbosch:geo:51.7177324,5.370241999999962
END:VEVENT
BEGIN:VTIMEZONE
TZID:America/Los_Angeles
X-LIC-LOCATION:America/Los_Angeles
BEGIN:STANDARD
DTSTART:20161106T010000
TZOFFSETFROM:-0700
TZOFFSETTO:-0800
TZNAME:PST
END:STANDARD
END:VTIMEZONE
END:VCALENDAR