BEGIN:VCALENDAR
VERSION:2.0
PRODID:-//wp-events-plugin.com//7.2.3.1//EN
TZID:America/Los_Angeles
X-WR-TIMEZONE:America/Los_Angeles
BEGIN:VEVENT
UID:5996@treglobal.org
DTSTART;TZID=America/New_York:20240303T070000
DTEND;TZID=America/New_York:20240306T190000
DTSTAMP:20240129T011620Z
URL:https://treglobal.org/event/retreat-in-the-berkshires-2/
SUMMARY:Retreat in the Berkshires
DESCRIPTION:Creativity is a path towards connecting with our intuition and 
 realizing emotional freedom. It is a spiritual practice that awakens our i
 nnate power.​\n\n\nJoin Yoga Therapist &amp\; TRE Provider\, Bonnie Pari
 ser &amp\; Art Therapist\, Alix von Auenmueller for 4 days and 3 nights ex
 ploring and enhancing emotional and creative expression in the heart of th
 e beautiful Berkshire mountains.Creativity is a path towards connecting wi
 th our intuition and realizing emotional freedom. It is a spiritual practi
 ce that awakens our innate power.\n\nFor more information including videos
  and pictures please visit Yoga Loka: https://www.yoga-loka.com/retreat-in
 -the-berkshires.html\n\n
CATEGORIES:Intro Workshops / Recurring Classes / Online Events
LOCATION:https://www.yoga-loka.com/retreat-in-the-berkshires.html
END:VEVENT
BEGIN:VTIMEZONE
TZID:America/New_York
X-LIC-LOCATION:America/New_York
BEGIN:STANDARD
DTSTART:20231105T010000
TZOFFSETFROM:-0400
TZOFFSETTO:-0500
TZNAME:EST
END:STANDARD
END:VTIMEZONE
END:VCALENDAR