BEGIN:VCALENDAR
VERSION:2.0
PRODID:-//wp-events-plugin.com//7.2.3.1//EN
TZID:America/Los_Angeles
X-WR-TIMEZONE:America/Los_Angeles
BEGIN:VEVENT
UID:5427@treglobal.org
DTSTART;TZID=Asia/Bangkok:20210725T180000
DTEND;TZID=Asia/Bangkok:20210725T193000
DTSTAMP:20210707T094619Z
URL:https://treglobal.org/event/restore-mind-body-balance-free-online-tre-
 class/
SUMMARY:FREE TRE™ &amp\; Grounding Class with Trainer Lori @Freedom Withi
 n Wellness
DESCRIPTION:\n\n\nLearn to naturally restore mind-body balance with this FR
 EE 90-Minute Tension and Trauma Releasing Exercises TRE™ Class taught by
  Lori Arsenault\, Global TRE™ Certification Trainer\, an Aliveness &amp\
 ; Grounding Coach\, and the Founder / CEO of Freedom Within Wellness.\n\n\
 n\n\n\nAbout this event\n\n\n\nNaturally restore mind-body balance with th
 is FREE 90-Minute Tension and Trauma Releasing Exercises TRE™ Class\n\nY
 ou are designed to 'let go' and keep evolving. Naturally restore the balan
 ce and calm you are looking for in your life so you can truly tap into you
 r truest potential.\n\nThis free class will be facilitated by Freedom With
 in Wellness and led by Lori Arsenault\, Founder &amp\; TRE™ Certificatio
 n Trainer. Lori has safely taught thousands TRE™ from around the world i
 n person as well as online &amp\; is delighted to have you join us for a c
 hance to experience this truly revolutionary practice.\n\nTo participate\,
  please fill out our consent form by registering here.\n\nTRE™ / Tension
 /Trauma Releasing Exercises® 2020 David Berceli © Copyright\n\n\n\n\n
ATTACH;FMTTYPE=image/jpeg:https://treglobal.org/wp-content/uploads/2021/07
 /July.jpg
CATEGORIES:Intro Workshops / Recurring Classes / Online Events
LOCATION:https://www.eventbrite.com/e/restore-mind-body-balance-free-tre-cl
 ass-tickets-159961706771
END:VEVENT
BEGIN:VTIMEZONE
TZID:Asia/Bangkok
X-LIC-LOCATION:Asia/Bangkok
BEGIN:STANDARD
DTSTART:20200725T180000
TZOFFSETFROM:+0700
TZOFFSETTO:+0700
TZNAME:+07
END:STANDARD
END:VTIMEZONE
END:VCALENDAR