BEGIN:VCALENDAR
VERSION:2.0
PRODID:-//wp-events-plugin.com//7.2.3.1//EN
TZID:America/Los_Angeles
X-WR-TIMEZONE:America/Los_Angeles
BEGIN:VEVENT
UID:5426@treglobal.org
DTSTART;TZID=Europe/Madrid:20211020T180000
DTEND;TZID=Europe/Madrid:20211024T130000
DTSTAMP:20210707T083515Z
URL:https://treglobal.org/event/re-tre-at-el-rancho-los-montesinos-spain-i
 n-english-can-be-used-as-module-1/
SUMMARY:re-TRE-at El Rancho Los Montesinos\, Spain (in English\, can be use
 d as Module 1 with continuing online)
DESCRIPTION:Are you ready to give your body a re~TRE~at?\nJoin in for a 5-d
 ay re~TRE~at El Rancho Los Montesinos\, in Alicante/Spain. The retreat wil
 l be held in English.\n\nThe re~TRE~at can be used as TRE™ Module 1 wi
 th continuation online for the following required modules\, but can for 
 sure only be a short week for you to give your body and soul some extra ca
 re!\n\nDates : Oct 20th - Oct 24th\, start at 6pm for an intro-evening.\
 n\nEach day Thursday - Sunday from 9.30 am - 1 pm we'll go through TRE™
  didactic teaching as well as doing TRE™ in the group. There will be loa
 ds of time for exploration.\n\nEach evening from 6 pm - 8 pm we'll stay t
 ogether as a group\, doing yin yoga &amp\; TRE™\, you'll get an experien
 ce of enjoying a sound bath with crystal sound bowls\, one evening with a 
 short meditation thereafter we'll use the spa-department with hot tub and 
 cold water-tub\, to continue supporting the health of the nervous system.\
 n\nThe afternoons between 1 pm - 6 pm is free time for the participant to
  enjoy the pool\, have a walk\, enjoy a horse-ride (there will be an offer
  to the group)\, or maybe treat yourself with one of the many lovely treat
 ments at the spa-department.\n\nCost of re~TRE~at (to be paid to OmniBala
 nce) :\nEarly Bird until August 15th € 280 / Regular from August 16th 
 € 360 (flights/transport not included).\nIncluded in the fee:\n* Daily d
 idactic teaching and TRE™ Practice each morning from 9.30 - 13.00\n* Dai
 ly led relaxation practice in form of yin yoga\, meditation\, sound healin
 g with crystal sound bowls.\n* 1 joint evening in spa-department where sau
 nas\, hot and cold tub is available for extra treatment for the nervous sy
 stem. (additional times can be purchased at own cost)\n\nCost &amp\; Lodgi
 ng in shared double room (to be paid directly to the venue)\, including br
 eakfast and lunch x 4:  20th - 24th €200\nIf you wish a single room\, t
 here is an added fee of €25/night.\n\nNot included in the fees mentioned
  above:\n* Travel costs such as flight\, transport to/from venue\, travel-
 insurance.\n* Dinners\n* Horse-riding (there will be a discounted offer on
 ce we know how many wished to attend).\n* Spa-treatments like massage\, sc
 rub\, facial treatments etc.\n* Access to Spa-department (only one night j
 oint in group is included in the re-TRE-at cost).\n\nThere will be possibl
 e to come earlier or stay after the retreat at the venue at an extra cost.
 \n\n&nbsp\;\n\nLIMITED TO 12 participants only.\n\nThe participants should
  have insurance in case of cancellation of flight or sickness or changes i
 n country-entrance regulations due to the current pandemic. OmniBalance is
  not responsible for travel costs should the training be cancelled.
CATEGORIES:Certification Trainings,Intro Workshops / Recurring Classes /
 Online Events,Online TRE® Certification Trainings
LOCATION:El Rancho\, Los Montesinos\, Los Montesinos\, Alicante\, Spain
X-APPLE-STRUCTURED-LOCATION;VALUE=URI;X-ADDRESS=Los Montesinos\, Los Montes
 inos\, Alicante\, Spain;X-APPLE-RADIUS=100;X-TITLE=El Rancho:geo:0,0
END:VEVENT
BEGIN:VTIMEZONE
TZID:Europe/Madrid
X-LIC-LOCATION:Europe/Madrid
BEGIN:DAYLIGHT
DTSTART:20210328T030000
TZOFFSETFROM:+0100
TZOFFSETTO:+0200
TZNAME:CEST
END:DAYLIGHT
END:VTIMEZONE
END:VCALENDAR