BEGIN:VCALENDAR
VERSION:2.0
PRODID:-//wp-events-plugin.com//7.2.3.1//EN
TZID:America/Los_Angeles
X-WR-TIMEZONE:America/Los_Angeles
BEGIN:VEVENT
UID:5986@treglobal.org
DTSTART;TZID=America/Chicago:20240304T190000
DTEND;TZID=America/Chicago:20240304T193000
DTSTAMP:20240115T172233Z
URL:https://treglobal.org/event/quick-start-tre-for-experienced-shakers-on
 ly-3/
SUMMARY:Quick Start TRE for Experienced Shakers Only
DESCRIPTION:This is a quick session for experienced shakers. Take time to c
 onnect with yourself and in community. Please do not attend if you have no
 t experienced TRE with a practitioner in a 1:1 session or an introductory 
 class of some sort. Fill out the contact form on the website if you are cu
 rious whether or not this applies to you and I will get back to you! You c
 an register 21 days before the event dates and must be registered a minimu
 m of 24 hours before. If you miss the window\, send a message through my c
 ontact form.
ATTACH;FMTTYPE=image/jpeg:https://treglobal.org/wp-content/uploads/2024/01
 /23-0218-Be-Love-classes-circles-and-FB-r3_nervous-system-copy-2.png
CATEGORIES:Intro Workshops / Recurring Classes / Online Events
LOCATION:http://www.belovenavigation.com
END:VEVENT
BEGIN:VTIMEZONE
TZID:America/Chicago
X-LIC-LOCATION:America/Chicago
BEGIN:STANDARD
DTSTART:20231105T010000
TZOFFSETFROM:-0500
TZOFFSETTO:-0600
TZNAME:CST
END:STANDARD
END:VTIMEZONE
END:VCALENDAR