BEGIN:VCALENDAR
VERSION:2.0
PRODID:-//wp-events-plugin.com//7.2.3.1//EN
TZID:America/Los_Angeles
X-WR-TIMEZONE:America/Los_Angeles
BEGIN:VEVENT
UID:6029@treglobal.org
DTSTART;TZID=America/Chicago:20240408T190000
DTEND;TZID=America/Chicago:20240408T193000
DTSTAMP:20240401T013059Z
URL:https://treglobal.org/event/quick-start-tre-for-experienced-shakers-on
 line/
SUMMARY:Quick Start TRE for Experienced Shakers\, Online
DESCRIPTION:Join us for a short community shake. We start at the bridge and
  end with integration. Shake together\, in community.\n\nPay what you choo
 se.\n\nwww.belovenavigation.com to register
ATTACH;FMTTYPE=image/jpeg:https://treglobal.org/wp-content/uploads/2024/03
 /TRE-IMAGE-1-1.png
CATEGORIES:Intro Workshops / Recurring Classes / Online Events
LOCATION:https://www.belovenavigation.com
END:VEVENT
BEGIN:VTIMEZONE
TZID:America/Chicago
X-LIC-LOCATION:America/Chicago
BEGIN:DAYLIGHT
DTSTART:20240310T030000
TZOFFSETFROM:-0600
TZOFFSETTO:-0500
TZNAME:CDT
END:DAYLIGHT
END:VTIMEZONE
END:VCALENDAR