BEGIN:VCALENDAR
VERSION:2.0
PRODID:-//wp-events-plugin.com//7.2.3.1//EN
TZID:America/Los_Angeles
X-WR-TIMEZONE:America/Los_Angeles
BEGIN:VEVENT
UID:1272@treglobal.org
DTSTART;TZID=America/Los_Angeles:20150822T080000
DTEND;TZID=America/Los_Angeles:20150822T163000
DTSTAMP:20150722T030247Z
URL:https://treglobal.org/event/practical-applications-regarding-stress-an
 d-trauma-7-ceus/
SUMMARY:Practical Applications Regarding Stress and Trauma - 7 CEU's
DESCRIPTION:PRACTICAL APPLICATIONS REGARDING STRESS AND TRAUMA7 CEU's appro
 ved by the State Board of Social Workers\, Marriage and Family Therapists 
 and Professional Counselors.Additional details\, including a Release and T
 erms agreement\, and registration is available at www.ResetStress.com 
CATEGORIES:Intro Workshops / Recurring Classes / Online Events
LOCATION:Comfort Suites Edinboro - Meeting Room\, 1007 Market Place Drive\,
  Edinboro\, Pennsylvania\, 16412\, United States
GEO:41.87422249999999;-80.13172359999999
X-APPLE-STRUCTURED-LOCATION;VALUE=URI;X-ADDRESS=1007 Market Place Drive\, E
 dinboro\, Pennsylvania\, 16412\, United States;X-APPLE-RADIUS=100;X-TITLE=
 Comfort Suites Edinboro - Meeting Room:geo:41.87422249999999,-80.131723599
 99999
END:VEVENT
BEGIN:VTIMEZONE
TZID:America/Los_Angeles
X-LIC-LOCATION:America/Los_Angeles
BEGIN:DAYLIGHT
DTSTART:20150308T030000
TZOFFSETFROM:-0800
TZOFFSETTO:-0700
TZNAME:PDT
END:DAYLIGHT
END:VTIMEZONE
END:VCALENDAR