BEGIN:VCALENDAR
VERSION:2.0
PRODID:-//wp-events-plugin.com//7.2.3.1//EN
TZID:America/Los_Angeles
X-WR-TIMEZONE:America/Los_Angeles
BEGIN:VEVENT
UID:1547@treglobal.org
DTSTART;TZID=America/Los_Angeles:20160328T183000
DTEND;TZID=America/Los_Angeles:20160328T194500
DTSTAMP:20160222T230342Z
URL:https://treglobal.org/event/portland-oregon-usa-tre-intro-class-open-t
 o-the-public-2/
SUMMARY:Portland\, Oregon USA - TRE™ Intro Class (open to the public)
DESCRIPTION:This is an introductory TRE class taught by Terry Wood\, Certi
 fied TRE™ Provider.  After experiencing the therapeutic tremors\, there
  will be time for questions and answers (no experience necessary).Date:  
 Monday evening March 28th\, 2016   6:30pm-7:45pmLocation:   TriOasis (w
 ww.TriOasis.com) located in John's Landing area                  
      5520 SW Macadam Ave                       Portland\, Ore
 gon  97239 Event listing on TriOasis HERECost:  $20  (max 10 students
 )Registration info: Please call TriOasis to register (971-205-5593)Please 
 wear loose/comfortable clothing.  Bring a yoga mat (if  you have one)\, 
 or a blanket – we will be lying on the floor during part of the class.TR
 E is contraindicated (not appropriate) if you’re pregnant.Terry Wood's c
 omplete class schedule: www.treclasses.com I'm also on meetup (link)
ATTACH;FMTTYPE=image/jpeg:https://treglobal.org/wp-content/uploads/2016/02
 /Terry.jpg
CATEGORIES:Intro Workshops / Recurring Classes / Online Events
LOCATION:TriOasis \, 5520 SW Macadam Ave (Suite 150)\, Portland\, OR\, 9723
 9\, United States
GEO:45.4834976;-122.67370219999998
X-APPLE-STRUCTURED-LOCATION;VALUE=URI;X-ADDRESS=5520 SW Macadam Ave (Suite 
 150)\, Portland\, OR\, 97239\, United States;X-APPLE-RADIUS=100;X-TITLE=Tr
 iOasis :geo:45.4834976,-122.67370219999998
END:VEVENT
BEGIN:VTIMEZONE
TZID:America/Los_Angeles
X-LIC-LOCATION:America/Los_Angeles
BEGIN:DAYLIGHT
DTSTART:20160313T030000
TZOFFSETFROM:-0800
TZOFFSETTO:-0700
TZNAME:PDT
END:DAYLIGHT
END:VTIMEZONE
END:VCALENDAR