BEGIN:VCALENDAR
VERSION:2.0
PRODID:-//wp-events-plugin.com//7.2.3.1//EN
TZID:America/Los_Angeles
X-WR-TIMEZONE:America/Los_Angeles
BEGIN:VEVENT
UID:1290@treglobal.org
DTSTART;TZID=America/Los_Angeles:20150802T140000
DTEND;TZID=America/Los_Angeles:20150802T151500
DTSTAMP:20150730T210001Z
URL:https://treglobal.org/event/portland-oregon-usa-tre-drop-in-group-clas
 s-open-to-general-public/
SUMMARY:Portland\, Oregon USA - TRE™ Drop-in Group Class (Open to General
  Public)
DESCRIPTION:TRE Drop-in Group Class (open to the general public)Sunday\, Au
 gust 2\, 20152:00-3:15pmLed by instructor Rita Selmarie\, Certified TRE™
  Provider. The class is held at:Sellwood Yoga7970 SE 13th AvenuePortland\,
  Oregon 97202Cost: $15. This is an introductory class to TRE. No experienc
 e is necessary.Register online or pay at time of the class. See:http://sel
 lwoodyoga.com/workshopsandevents/tre-tension-trauma-releasing-exercises
CATEGORIES:Intro Workshops / Recurring Classes / Online Events
LOCATION:Sellwood Yoga\, 7970 SE 13th Avenue\, Portland\, Oregon\, 97202\, 
 United States
GEO:45.4661514;-122.65279470000002
X-APPLE-STRUCTURED-LOCATION;VALUE=URI;X-ADDRESS=7970 SE 13th Avenue\, Portl
 and\, Oregon\, 97202\, United States;X-APPLE-RADIUS=100;X-TITLE=Sellwood Y
 oga:geo:45.4661514,-122.65279470000002
END:VEVENT
BEGIN:VTIMEZONE
TZID:America/Los_Angeles
X-LIC-LOCATION:America/Los_Angeles
BEGIN:DAYLIGHT
DTSTART:20150308T030000
TZOFFSETFROM:-0800
TZOFFSETTO:-0700
TZNAME:PDT
END:DAYLIGHT
END:VTIMEZONE
END:VCALENDAR