BEGIN:VCALENDAR
VERSION:2.0
PRODID:-//wp-events-plugin.com//7.2.3.1//EN
TZID:America/Los_Angeles
X-WR-TIMEZONE:America/Los_Angeles
BEGIN:VEVENT
UID:1307@treglobal.org
DTSTART;TZID=America/Los_Angeles:20151025T140000
DTEND;TZID=America/Los_Angeles:20151025T151500
DTSTAMP:20150827T012304Z
URL:https://treglobal.org/event/portland-oregon-usa-tre-drop-in-group-clas
 s-open-to-general-public-5/
SUMMARY:Portland\, Oregon USA - TRE™ Drop-in Group Class (Open to General
  Public)
DESCRIPTION:TRE Drop-in Group Class (open to the general public)A twice a m
 onth drop-in class on Sundays from 2:00-3:15pm with:Ryan Crosby\, Certifie
 d TRE™ ProviderRita Selmarie\, Certified TRE™ ProviderCurrent schedule
 :October 11\, 2015: Ryan CrosbyOctober 25\, 2015: Rita SelmarieNovember 8\
 , 2015: Ryan CrosbyNovember 22\, 2015: Rita SelmarieDecember 6\, 2015: Rya
 n CrosbyDecember 20\, 2015: Rita SelmarieThe class is held at:Sellwood Yog
 a7970 SE 13th AvenuePortland\, Oregon 97202Cost: $15. This is an introduct
 ory class to TRE. No experience is necessary.Register online or pay at tim
 e of the class. (If you pay at the time of class please arrive approximate
 ly 15 minutes early to register and make payment.)Registration and More In
 formationSellwood Yoga website:http://sellwoodyoga.com/workshopsandevents/
 tre-tension-trauma-releasing-exercises
CATEGORIES:Intro Workshops / Recurring Classes / Online Events
LOCATION:Sellwood Yoga\, 7970 SE 13th Avenue\, Portland\, Oregon\, 97202\, 
 United States
GEO:45.4661514;-122.65279470000002
X-APPLE-STRUCTURED-LOCATION;VALUE=URI;X-ADDRESS=7970 SE 13th Avenue\, Portl
 and\, Oregon\, 97202\, United States;X-APPLE-RADIUS=100;X-TITLE=Sellwood Y
 oga:geo:45.4661514,-122.65279470000002
END:VEVENT
BEGIN:VTIMEZONE
TZID:America/Los_Angeles
X-LIC-LOCATION:America/Los_Angeles
BEGIN:DAYLIGHT
DTSTART:20150308T030000
TZOFFSETFROM:-0800
TZOFFSETTO:-0700
TZNAME:PDT
END:DAYLIGHT
END:VTIMEZONE
END:VCALENDAR