BEGIN:VCALENDAR
VERSION:2.0
PRODID:-//wp-events-plugin.com//7.2.3.1//EN
TZID:America/Los_Angeles
X-WR-TIMEZONE:America/Los_Angeles
BEGIN:VEVENT
UID:1619@treglobal.org
DTSTART;TZID=America/Los_Angeles:20160717T141500
DTEND;TZID=America/Los_Angeles:20160717T153000
DTSTAMP:20160616T133005Z
URL:https://treglobal.org/event/portland-oregon-usa-tre-drop-in-group-clas
 s-open-to-general-public-35/
SUMMARY:Portland\, Oregon USA - TRE™ Drop-in Group Class (Open to General
  Public)
DESCRIPTION:TRE Drop-in Group Class (open to the general public)A twice a m
 onth drop-in class on Sundays from 2:15-3:30pm with:Ryan Crosby\, Certifie
 d TRE™ ProviderRita Selmarie\, Certified TRE™ ProviderUpcoming classes
  (check Sellwood Yoga website for any schedule changes):May 1\, 2016: Ryan
  CrosbyMay 15\, 2016: Rita SelmarieJune 5\, 2016: Ryan CrosbyJune 19\, 201
 6: Rita SelmarieJuly 17\, 2016: Rita SelmarieThe class is held at:Sellwoo
 d Yoga7970 SE 13th AvenuePortland\, Oregon 97202Cost: $15. This is an intr
 oductory class to TRE. No experience is necessary.Register online or pay a
 t time of the class. (If you pay at the time of class\, please arrive appr
 oximately 15 minutes early to register and make payment.)Registration and 
 More InformationSellwood Yoga website:http://sellwoodyoga.com/workshopsand
 events/tre-tension-trauma-releasing-exercises
CATEGORIES:Intro Workshops / Recurring Classes / Online Events
LOCATION:Sellwood Yoga\, 7970 SE 13th Avenue\, Portland\, OR\, 97202\, Unit
 ed States
GEO:45.4661479;-122.65268090000001
X-APPLE-STRUCTURED-LOCATION;VALUE=URI;X-ADDRESS=7970 SE 13th Avenue\, Portl
 and\, OR\, 97202\, United States;X-APPLE-RADIUS=100;X-TITLE=Sellwood Yoga:
 geo:45.4661479,-122.65268090000001
END:VEVENT
BEGIN:VTIMEZONE
TZID:America/Los_Angeles
X-LIC-LOCATION:America/Los_Angeles
BEGIN:DAYLIGHT
DTSTART:20160313T030000
TZOFFSETFROM:-0800
TZOFFSETTO:-0700
TZNAME:PDT
END:DAYLIGHT
END:VTIMEZONE
END:VCALENDAR