BEGIN:VCALENDAR
VERSION:2.0
PRODID:-//wp-events-plugin.com//7.2.3.1//EN
TZID:America/Los_Angeles
X-WR-TIMEZONE:America/Los_Angeles
BEGIN:VEVENT
UID:1601@treglobal.org
DTSTART;TZID=America/Los_Angeles:20160427T180000
DTEND;TZID=America/Los_Angeles:20160427T190000
DTSTAMP:20160406T225402Z
URL:https://treglobal.org/event/portland-oregon-usa-tre-drop-in-group-clas
 s-open-to-general-public-24/
SUMMARY:Portland\, Oregon USA - TRE™ Drop-in Group Class (open to general
  public)
DESCRIPTION:TRE Drop-in Group Class (open to the general public)A weekly dr
 op-in class on Wednesdays from 6:00-7:00pm with:Rita Selmarie\, Certified 
 TRE™ ProviderUpcoming classes:April 27\, 2016 – 6:00pmMay 4\, 2016 –
  6:00pmMay 11\, 2016 – 6:00pmMay 18\, 2016 – 6:00pm[ no class on May 2
 5\, 2016 ]June 1\, 2016 – 6:00pmJune 8\, 2016 – 6:00pmThe class is hel
 d at:The Wellspring School for the Healing Arts2440 NE Martin Luther King 
 Jr. Blvd.Suite 202Portland\, OR 97212Cost: $12 for an individual class. Or
  purchase a discounted 10- or 20-Class Wellspring Movement Pass\, which ca
 n be used for any Wellspring School movement or meditation classes.This is
  an introductory class to TRE. No experience is necessary.Register online 
 or pay at time of the class. (If you pay at the time of class\, please arr
 ive approximately 10-15 minutes early to register and make payment.)Regist
 ration and More InformationTo register online and learn more about the cla
 ss\, see The Wellspring School for the Healing Arts website.
CATEGORIES:Intro Workshops / Recurring Classes / Online Events
LOCATION:The Wellspring School for the Healing Arts\, 2440 NE Martin Luther
  King Jr. Blvd.\, Portland\, Oregon\, 97212\, United States
GEO:45.54006469999999;-122.66097300000001
X-APPLE-STRUCTURED-LOCATION;VALUE=URI;X-ADDRESS=2440 NE Martin Luther King 
 Jr. Blvd.\, Portland\, Oregon\, 97212\, United States;X-APPLE-RADIUS=100;X
 -TITLE=The Wellspring School for the Healing Arts:geo:45.54006469999999,-1
 22.66097300000001
END:VEVENT
BEGIN:VTIMEZONE
TZID:America/Los_Angeles
X-LIC-LOCATION:America/Los_Angeles
BEGIN:DAYLIGHT
DTSTART:20160313T030000
TZOFFSETFROM:-0800
TZOFFSETTO:-0700
TZNAME:PDT
END:DAYLIGHT
END:VTIMEZONE
END:VCALENDAR