BEGIN:VCALENDAR
VERSION:2.0
PRODID:-//wp-events-plugin.com//7.2.3.1//EN
TZID:America/Los_Angeles
X-WR-TIMEZONE:America/Los_Angeles
BEGIN:VEVENT
UID:1304@treglobal.org
DTSTART;TZID=America/Los_Angeles:20150906T140000
DTEND;TZID=America/Los_Angeles:20150906T151500
DTSTAMP:20150827T005901Z
URL:https://treglobal.org/event/portland-oregon-usa-tre-drop-in-group-clas
 s-open-to-general-public-2/
SUMMARY:Portland\, Oregon USA - TRE™ Drop-in Group Class (Open to General
  Public)
DESCRIPTION:TRE Drop-in Group Class (open to the general public)A twice a m
 onth drop-in class on Sundays from 2:00-3:15pm with:Ryan Crosby\, Certifie
 d TRE™ ProviderRita Selmarie\, Certified TRE™ ProviderCurrent schedule
 :September 6\, 2015: Rita SelmarieSeptember 20\, 2015: Ryan CrosbyOctober 
 11\, 2015: Ryan CrosbyOctober 25\, 2015: Rita SelmarieNovember 8\, 2015: R
 yan CrosbyNovember 22\, 2015: Rita SelmarieDecember 6\, 2015: Ryan CrosbyD
 ecember 20\, 2015: Rita SelmarieThe class is held at:Sellwood Yoga7970 SE 
 13th AvenuePortland\, Oregon 97202Cost: $15. This is an introductory class
  to TRE. No experience is necessary.Register online or pay at time of the 
 class. (If you pay at the time of class please arrive approximately 15 min
 utes early to register and make payment.)Registration and More Information
 Sellwood Yoga website:http://sellwoodyoga.com/workshopsandevents/tre-tensi
 on-trauma-releasing-exercises
CATEGORIES:Intro Workshops / Recurring Classes / Online Events
LOCATION:Sellwood Yoga\, 7970 SE 13th Avenue\, Portland\, Oregon\,  97202\,
  United States
GEO:45.4661514;-122.65279470000002
X-APPLE-STRUCTURED-LOCATION;VALUE=URI;X-ADDRESS=7970 SE 13th Avenue\, Portl
 and\, Oregon\,  97202\, United States;X-APPLE-RADIUS=100;X-TITLE=Sellwood 
 Yoga:geo:45.4661514,-122.65279470000002
END:VEVENT
BEGIN:VTIMEZONE
TZID:America/Los_Angeles
X-LIC-LOCATION:America/Los_Angeles
BEGIN:DAYLIGHT
DTSTART:20150308T030000
TZOFFSETFROM:-0800
TZOFFSETTO:-0700
TZNAME:PDT
END:DAYLIGHT
END:VTIMEZONE
END:VCALENDAR