BEGIN:VCALENDAR
VERSION:2.0
PRODID:-//wp-events-plugin.com//7.2.3.1//EN
TZID:America/Los_Angeles
X-WR-TIMEZONE:America/Los_Angeles
BEGIN:VEVENT
UID:1289@treglobal.org
DTSTART;TZID=America/Los_Angeles:20150819T000000
DTEND;TZID=America/Los_Angeles:20150826T000000
DTSTAMP:20150730T044442Z
URL:https://treglobal.org/event/portland-oregon-tre-workshop-open-to-the-g
 eneral-public/
SUMMARY:Portland\, Oregon  TRE ® Workshop    (Open to the general public)
DESCRIPTION:Wednesday August 19\, Friday August 21 &amp\; Wednesday August 
 26 7:00-8:30PM\,  August 21 ends at 9:00PMCost: Sliding scale:  $45-$75 f
 or the 3 class series.Taught by Moline Whitson\, Certified TRE ® Provider
  In this 3 session series of TRE™ you’ll have a lifelong tool you can
  practice on your own to release old tension patterns\, prevent the buildu
 p of stress in your system and restore resilience.  The exercises are sim
 ple and can be adapted in a variety of ways to suit all body types and abi
 lities.
CATEGORIES:Intro Workshops / Recurring Classes / Online Events
LOCATION:Harmony Yoga\, 2108 NE 41st Ave\, Portland\, Oregon\, 97212\, Unit
 ed States
GEO:45.5380122;-122.62075629999998
X-APPLE-STRUCTURED-LOCATION;VALUE=URI;X-ADDRESS=2108 NE 41st Ave\, Portland
 \, Oregon\, 97212\, United States;X-APPLE-RADIUS=100;X-TITLE=Harmony Yoga:
 geo:45.5380122,-122.62075629999998
END:VEVENT
BEGIN:VTIMEZONE
TZID:America/Los_Angeles
X-LIC-LOCATION:America/Los_Angeles
BEGIN:DAYLIGHT
DTSTART:20150308T030000
TZOFFSETFROM:-0800
TZOFFSETTO:-0700
TZNAME:PDT
END:DAYLIGHT
END:VTIMEZONE
END:VCALENDAR