BEGIN:VCALENDAR
VERSION:2.0
PRODID:-//wp-events-plugin.com//7.2.3.1//EN
TZID:America/Los_Angeles
X-WR-TIMEZONE:America/Los_Angeles
BEGIN:VEVENT
UID:1474@treglobal.org
DTSTART;TZID=America/Los_Angeles:20160221T173000
DTEND;TZID=America/Los_Angeles:20160221T193000
DTSTAMP:20160113T042052Z
URL:https://treglobal.org/event/portland-oregon-tre-intro-class-open-to-th
 e-general-public/
SUMMARY:Portland\, Oregon TRE™ Intro Class--open to the general public
DESCRIPTION:Portland\, OregonTRE™ Intro Class  Date:  Sunday\, February
  21   5:30-7:30PM Location:  Harmony Yoga 2108 NE 41st Ave Portland\, 
 OregonCost:  $20This is an Introduction to TRE™\, with overview\, backg
 round and an opportunity to experience the self-induced tremor mechanism. 
  Taught by Moline Whitson\, Certified TRE™ Provider.  If you’re cur
 ious about TRE™\, this is a good way to sample it.  There will be time 
 for questions and answers.   No experience necessary. 
CATEGORIES:Intro Workshops / Recurring Classes / Online Events
LOCATION:Harmony Yoga\, 2108 NE 41st Ave\, Portland\, Oregon\, 97212\, Unit
 ed States
GEO:45.5380122;-122.62075629999998
X-APPLE-STRUCTURED-LOCATION;VALUE=URI;X-ADDRESS=2108 NE 41st Ave\, Portland
 \, Oregon\, 97212\, United States;X-APPLE-RADIUS=100;X-TITLE=Harmony Yoga:
 geo:45.5380122,-122.62075629999998
END:VEVENT
BEGIN:VTIMEZONE
TZID:America/Los_Angeles
X-LIC-LOCATION:America/Los_Angeles
BEGIN:STANDARD
DTSTART:20151101T010000
TZOFFSETFROM:-0700
TZOFFSETTO:-0800
TZNAME:PST
END:STANDARD
END:VTIMEZONE
END:VCALENDAR