BEGIN:VCALENDAR
VERSION:2.0
PRODID:-//wp-events-plugin.com//7.2.3.1//EN
TZID:America/Los_Angeles
X-WR-TIMEZONE:America/Los_Angeles
BEGIN:VEVENT
UID:1334@treglobal.org
DTSTART;TZID=America/Los_Angeles:20151016T183000
DTEND;TZID=America/Los_Angeles:20151016T193000
DTSTAMP:20150914T190958Z
URL:https://treglobal.org/event/portland-oregon-drop-in-group-shake-3/
SUMMARY:Portland\, Oregon -- Drop In Group Shake
DESCRIPTION:Portland\, Oregon   Drop In Group ShakeFriday\, October 16 :
   06:30-07:30PMThis is a chance those who have learned the protocol to co
 me practice in a group and/or receive extra guidance.Taught by Moline Whit
 son\, Certified TRE ® Provider$12 suggested donation 
CATEGORIES:Intro Workshops / Recurring Classes / Online Events
LOCATION:Harmony Yoga\, 2108 Northeast 41st Avenue\, Portland\, Oregon\, 97
 212\, United States
GEO:45.5380122;-122.62075629999998
X-APPLE-STRUCTURED-LOCATION;VALUE=URI;X-ADDRESS=2108 Northeast 41st Avenue\
 , Portland\, Oregon\, 97212\, United States;X-APPLE-RADIUS=100;X-TITLE=Har
 mony Yoga:geo:45.5380122,-122.62075629999998
END:VEVENT
BEGIN:VTIMEZONE
TZID:America/Los_Angeles
X-LIC-LOCATION:America/Los_Angeles
BEGIN:DAYLIGHT
DTSTART:20150308T030000
TZOFFSETFROM:-0800
TZOFFSETTO:-0700
TZNAME:PDT
END:DAYLIGHT
END:VTIMEZONE
END:VCALENDAR