BEGIN:VCALENDAR
VERSION:2.0
PRODID:-//wp-events-plugin.com//7.2.3.1//EN
TZID:America/Los_Angeles
X-WR-TIMEZONE:America/Los_Angeles
BEGIN:VEVENT
UID:1256@treglobal.org
DTSTART;TZID=America/Los_Angeles:20150812T183000
DTEND;TZID=America/Los_Angeles:20150812T203000
DTSTAMP:20150630T041019Z
URL:https://treglobal.org/event/portland-oregon-david-berceli-lecture-open
 -to-the-public/
SUMMARY:Portland Oregon - David Berceli Lecture (Open To The Public)
DESCRIPTION:Meet TRE founder Dr\, David Berceli and learn about TRE and its
  application for stress\, trauma and PTSD.  Open to the public (no experi
 ence necessary). David has empowered thousands of refugees\, vets\, police
  officers\, aid workers\, and victims of natural disasters to reclaim thei
 r lives and restore a more balanced state of well being.Meet Local TRE Pro
 viders.Cost is $10 in advance or $12 at the door.Purchase ticket:http://ww
 w.brownpapertickets.com/event/1771635
CATEGORIES:Intro Workshops / Recurring Classes / Online Events
LOCATION:The Old Church (Portland Oregon)\, 1422 SW 11th Ave\, Portland\, O
 R\, 97201\, United States
GEO:45.5151433;-122.68558780000001
X-APPLE-STRUCTURED-LOCATION;VALUE=URI;X-ADDRESS=1422 SW 11th Ave\, Portland
 \, OR\, 97201\, United States;X-APPLE-RADIUS=100;X-TITLE=The Old Church (P
 ortland Oregon):geo:45.5151433,-122.68558780000001
END:VEVENT
BEGIN:VTIMEZONE
TZID:America/Los_Angeles
X-LIC-LOCATION:America/Los_Angeles
BEGIN:DAYLIGHT
DTSTART:20150308T030000
TZOFFSETFROM:-0800
TZOFFSETTO:-0700
TZNAME:PDT
END:DAYLIGHT
END:VTIMEZONE
END:VCALENDAR