BEGIN:VCALENDAR
VERSION:2.0
PRODID:-//wp-events-plugin.com//7.2.3.1//EN
TZID:America/Los_Angeles
X-WR-TIMEZONE:America/Los_Angeles
BEGIN:VEVENT
UID:1349@treglobal.org
DTSTART;TZID=America/Los_Angeles:20151122T093000
DTEND;TZID=America/Los_Angeles:20151122T173000
DTSTAMP:20150929T093022Z
URL:https://treglobal.org/event/pisa-italy-tre-intro-workshop-open-to-gene
 ral-public/
SUMMARY:Pisa\, Italy- TRE Intro Workshop (open to general public)
DESCRIPTION:22 November 2015Introductory TRE Workshop in Pisa- Italy9:30 AM
  to 17:30 PM
CATEGORIES:Intro Workshops / Recurring Classes / Online Events
LOCATION:Studio Yoga Sadhana\, via giunta Pisano 16\, Pisa\, Italy\, Tuscan
 y\, Italy
GEO:43.72179930000001;10.38948860000005
X-APPLE-STRUCTURED-LOCATION;VALUE=URI;X-ADDRESS=via giunta Pisano 16\, Pisa
 \, Italy\, Tuscany\, Italy;X-APPLE-RADIUS=100;X-TITLE=Studio Yoga Sadhana:
 geo:43.72179930000001,10.38948860000005
END:VEVENT
BEGIN:VTIMEZONE
TZID:America/Los_Angeles
X-LIC-LOCATION:America/Los_Angeles
BEGIN:STANDARD
DTSTART:20151101T010000
TZOFFSETFROM:-0700
TZOFFSETTO:-0800
TZNAME:PST
END:STANDARD
END:VTIMEZONE
END:VCALENDAR